Workbook
Name OLE_LINK1: 'Agency Approval'!#REF!
Name OLE_LINK2: 'Agency Approval'!#REF!
Name OLE_LINK4: 'General Instructions'!#REF!

Sheet General Instructions
B1: State of Illinois -- Uniform Budget Template -- General Instructions
B3: This form is used to apply to individual State of Illinois discretionary grant programs. Applicants should submit budgets based upon the total estimated costs for the project including all funding sources. Pay attention to applicable program specific instructions, if attached. The applicant organization should refer to 2 CFR 200, “Uniform Administrative Requirements, Cost Principles, and Audit Requirements for Federal Awards” cited within these instructions.
B5: You must consult with your Business Office prior to submitting this form for any award restrictions, limitations or requirements when filling out the narrative and Uniform Budget Template.
B6: Section A – Budget Summary
B7: STATE OF ILLINOIS FUNDS
B8: All applicants must complete Section A and provide a break-down by the applicable budget categories shown in lines 1-17. Please read all instructions before completing form.
B9: STATE OF ILLINOIS GRANT FUNDS
B10: Provide a total requested State of Illinois Grant amount for each year in the Revenue portion of Section A. The amount entered in Line (a) will equal the total amount budgeted on Line 18 of Section A.
B11: BUDGET SUMMARY – STATE OF ILLINOIS FUNDS
B12: All applicants must complete Section A and provide a break-down by the applicable budget categories shown in lines 1-17.
B14: Line 18: Show the total budget request for each fiscal year for which funding is requested.
B16: Please use detail worksheet and narrative section for further descriptions and explanations of budgetary line items
... B90: (e) The Federal/State awarding agency may, at its option, restrict the transfer of funds among direct cost categories or programs, functions and activities for Federal/State awards in which the Federal/State share of the project exceeds the Simplified Acquisition Threshold and the cumulative amount of such transfers exceeds or is expected to exceed 10 percent or $1,000 per detail line item, whichever is greater of the total budget as last approved by the Federal/State awarding agency. The Federal/State awarding agency cannot permit a transfer that would cause any Federal/State appropriation to be used for purposes other than those consistent with the appropriation.

Sheet Section A
A1: STATE OF ILLINOIS | B1: UNIFORM GRANT BUDGET TEMPLATE | E1: Commerce & Economic Opportunity
A2: Organization Name: | C2: UEI# | E2: NOFO # | F2: 3137-4342
A3: CSFA Number: | B3: 420-30-3137 | C3: CSFA Description: | D3: Climate Works Pre-Apprenticeship Program | E3: Fiscal Year: | F3: 2027
A4: S E C T I O N A -- STATE OF ILLINOIS FUNDS | E4: Grant #
A5: Revenues | E5: TOTAL REVENUE
A6: (a). State of Illinois Grant Amount Requested | E6: =+E34 -> 0
A7: BUDGET SUMMARY STATE OF ILLINOIS FUNDS
A8: Budget Expenditure Categories | C8: OMB Uniform Guidance Federal Awards Reference 2 CFR 200 | E8: TOTAL EXPENDITURES
A9: 1A. Personnel (Salaries & Wages) - Climate Works Staff | C9: 200.43 | E9: =+'1A'!G22 -> 0
A10: 1B. Personnel (Salaries & Wages) - Barrier Reduction | C10: 200.43 | E10: =+'1B'!G22 -> 0
A11: 2A. Fringe Benefits - Climate Works Staff | C11: 200.431 | E11: =+'2A'!E21 -> 0
A12: 2B. Fringe Benefits - Barrier Reduction Staff | C12: 200.431 | E12: =+'2B'!E21 -> 0
A13: 3. Travel | C13: 200.474 | E13: =+Travel!G11 -> 0
A14: 4. Equipment | C14: 200.439 | E14: =+'Equipment '!D10 -> 0
A15: 5. Supplies | C15: 200.94 | E15: =+Supplies!D16 -> 0
A16: 6A. Contractual Services & Subawards - Climate Works | C16: 200.318 & 200.92 | E16: =+'6A'!C16 -> 0
A17: 6B. Contractual Services & Subawards - Barrier Reduction | C17: 200.318 & 200.92 | E17: =+'6B'!C16 -> 0
A18: 7A. Consultant (Professional Services) - Climate Works | C18: 200.459 | E18: ='7A'!G8 -> 0
A19: 7A. Consultant (Professional Services) - Barrier Reduction | C19: 200.459 | E19: ='7B'!G8 -> 0
A20: 9. Occupancy (Rent & Utilities) | C20: 200.465 | E20: =+'Occupancy '!F8 -> 0
A21: 11. Telecommunications | E21: =+'Telecommunications '!F8 -> 0
A22: 12. Training & Education | C22: 200.472 | E22: =+'Training & Education'!F8 -> 0
A23: 13. Direct Administrative costs | C23: 200.413 ( c) | E23: =+'Direct Administrative '!G13 -> 0
A24: 14. Miscellaneous Costs | E24: =+'Miscellaneous (other) Costs '!F12 -> 0
A25: 15A. Industry Focused Training | E25: =+'15A'!F15 -> 0
A26: 15B. Barrier Reduction | E26: =+'15B'!F13 -> 0
A27: 16. Total Direct Costs (lines 1-15) | C27: 200.413 | E27: =SUM(E9:F26) -> 0
A28: 17A. Indirect Costs- Climate Works* (see below) | C28: 200.414 | E28: ='17A'!D6 -> 0
A29: Rate: | B29: ='Indirect Cost Worksheet'!H33 -> 0.15 | C29: =IF(B29="","",IF(B29<>'17A'!C4,"Rate must match 17 in Section C","")) | E29: =IF(B30="","",IF(B30<>(+'17A'!B4+'17A'!B5),"Base must match 17 in Section C",""))
A30: Base: | B30: ='Indirect Cost Worksheet'!H31 -> 0
A31: 17B. Indirect Costs- Barrier Reduction* (see below) | C31: 200.414 | E31: ='17B'!D6 -> 0
A32: Rate: | B32: ='Indirect Cost Worksheet'!H33 -> 0.15
A33: Base: | B33: ='Indirect Cost Worksheet'!H32 -> 0
A34: 18. Total Costs State Grant Funds (16 &17) | E34: =E27+E28+E31 -> 0

Sheet Indirect Cost Worksheet
H2: Indirect Cost Rate = | I2: 0.15
A3: GATA Line | B3: GRS Exp Code | C3: Description | F3: Total Costs | G3: Direct Cost Base Exclusions | H3: Direct Cost Base | I3: Notes (for de minimis calculations)
A4: 1A | B4: 1001 | C4: Personnel | F4: ='1A'!G22 -> 0 | H4: =F4-G4 -> 0 | I4: Included in Indirect Cost Base
A5: 1B | B5: 2001 | C5: Barrier Reduction Personnel | F5: ='1B'!G22 -> 0 | H5: =F5-G5 -> 0 | I5: Included in Indirect Cost Base
A6: 2A | B6: 1002 | C6: Fringe Benefits | F6: ='2A'!E21 -> 0 | H6: =F6-G6 -> 0 | I6: Included in Indirect Cost Base
A7: 2B | B7: 2002 | C7: Barrier Reduction Fringe Benefits | F7: ='2B'!E21 -> 0 | H7: =F7-G7 -> 0 | I7: Included in Indirect Cost Base
A8: 3 | B8: 1003 | C8: Travel | F8: =Travel!G11 -> 0 | H8: =F8-G8 -> 0 | I8: Included in Indirect Cost Base
A9: 4 | B9: 1004 | C9: Equipment | F9: ='Equipment '!D10 -> 0 | G9: =F9 -> 0 | H9: =F9-G9 -> 0 | I9: Excluded from Indirect Cost Base
A10: 5 | B10: 1005 | C10: Supplies | F10: =Supplies!D16 -> 0 | H10: =F10-G10 -> 0 | I10: Included in Indirect Cost Base
A11: 6A | B11: 1006 | C11: Contractual Services & Subawards | F11: ='6A'!C16 -> 0 | H11: =F11-G11 -> 0 | I11: *See Note #1 Below
A12: 6B | B12: 2006 | C12: Barrier Reduction Contractual Services & Subawards | F12: ='6B'!C16 -> 0 | H12: =F12-G12 -> 0 | I12: *See Note #1 Below
A13: 7A | B13: 1007 | C13: Consultant (Professional Services) | F13: ='7A'!G8 -> 0 | H13: =F13-G13 -> 0 | I13: Included in Indirect Cost Base
A14: 7B | B14: 200x | C14: Barrier Reduction Consultant | F14: ='7B'!G8 -> 0 | H14: =F14-G14 -> 0 | I14: Included in Indirect Cost Base
A15: 9 | B15: 1009 | C15: Occupancy (Rent and Utilities) | F15: ='Occupancy '!F8 -> 0 | H15: =F15-G15 -> 0 | I15: Exclude Rent from Indirect Base
A16: 11 | B16: 1011 | C16: Telecommunications | F16: ='Telecommunications '!F8 -> 0 | H16: =F16-G16 -> 0 | I16: Included in Indirect Cost Base
A17: 12 | B17: 1012 | C17: Training and Education | F17: ='Training & Education'!F8 -> 0 | H17: =F17-G17 -> 0 | I17: Included in Indirect Cost Base
A18: 13 | B18: 1013 | C18: Direct Administrative Costs | F18: ='Direct Administrative '!G13 -> 0 | H18: =F18-G18 -> 0 | I18: Exclude Costs Covered in Indirect
A19: 14 | B19: 1014 | C19: Miscellaneous Costs | F19: ='Miscellaneous (other) Costs '!F12 -> 0 | H19: =F19-G19 -> 0 | I19: Included in Indirect Cost Base
A20: 15A | B20: 1015 | C20: Industry Focused Training | F20: =F21+F22+F23+F24+F25 -> 0 | G20: =G21+G22+G23+G24+G25 -> 0 | H20: =F20-G20 -> 0
C21: Curricula Cost | F21: ='15A'!F10 -> 0 | I21: Included in Indirect Cost Base
C22: Instructional Delivery Costs (Tuition) | F22: ='15A'!F11 -> 0 | G22: =F22 -> 0 | I22: Excluded from Indirect Cost Base
C23: Work-Based Learning Costs | F23: ='15A'!F12 -> 0 | I23: Included in Indirect Cost Base
C24: Stipends - Technical Training | F24: ='15A'!F13 -> 0 | G24: =F24 -> 0 | I24: Excluded from Indirect Cost Base
C25: Stipends - Work-Based Training | F25: ='15A'!F14 -> 0 | G25: =F25 -> 0 | I25: Excluded from Indirect Cost Base
A26: 15B | B26: 2005 | C26: Barrier Reduction | F26: =F27+F28+F29+F30 -> 0 | G26: =G27+G28+G29+G30 -> 0 | H26: =F26-G26 -> 0
C27: Wrap Around Services | F27: ='15B'!F9 -> 0 | G27: =F27 -> 0 | I27: Excluded from Indirect Cost Base
C28: Student Support Services | F28: ='15B'!F10 -> 0 | G28: =F28 -> 0 | I28: Excluded from Indirect Cost Base
C29: Transition Support Services | F29: ='15B'!F11 -> 0 | G29: =F29 -> 0 | I29: Excluded from Indirect Cost Base
C30: Stipends - Essential Employability Skills Training | F30: ='15B'!F12 -> 0 | G30: =F30 -> 0 | I30: Excluded from Indirect Cost Base
A31: 17A | B31: 1017 | C31: Indirect Costs - Workforce Hub | F31: =H31*H33 -> 0 | H31: =H4+H6+H8+H9+H10+H11+H13+H15+H16+H17+H18+H19+H20 -> 0 | I31: TOTAL DIRECT COST BASE - CLIMATE WORKS
A32: 17B | B32: 1017 | C32: Indirect Costs - Barrier Reduction | F32: =H32*H33 -> 0 | H32: =H5+H7+H12+H14+H26 -> 0 | I32: TOTAL DIRECT COST BARRIER REDUCTION
C33: TOTAL | F33: =F4+F5+F6+F7+F8+F9+F10+F11+F12+F13+F14+F15+F16+F17+F18+F19+F20+F26+F31+F32 -> 0 | H33: =I2 -> 0.15 | I33: INDIRECT RATE
A37: Comments:
A43: NOTE #1: Each contract or subaward AND the amount must be listed in the budget narrative. Grantees are allow to include only the first $25,000 of each contract or subrecipient agreement as a part of the indirect cost rate base. Any additional costs are excluded from the indirect cost base. If a subaward includes training or work-based learning, those amounts have to be reported under Direct Training (DT) or Work Based Training (WBT) and not subawards.
A44: NOTE #2: Direct Training and Work-Based Training Costs cannot be included as a part of the indirect cost base if this service is provided under a contract or subrecipient agreement. In this case, only the first $25,000 of each contract or subrecipient agreement would be allowed to be included in the Indirect Cost base.

Sheet ICI
B1: Organization Name: | F1: =+'Section A'!B2 -> 0 | M1: NOFO # | O1: =+'Section A'!F2 -> 3137-4342
B2: SECTION - A (continued) Indirect Cost Rate Information
C3: If your organization is requesting reimbursement for indirect costs on line 17 of the Budget Summary, please select one of the following options.
B5: 1) | E5: Our Organization receives direct Federal funding and currently has a Negotiated Indirect Cost Rate Agreement (NICRA) with our Federal Cognizant Agency. A copy of this agreement will be provided to the State of Illinois’ Indirect Cost Unit for review and documentation before reimbursement is allowed. This NICRA will be accepted by all State of Illinois Agencies up to any statutory, rule-based or programmatic restrictions or limitations. | T5: To select an option - highlight the box and drop down the shape fill box on the drawing tools ribbon. you can either select a fill color or you can fill with texture, choose more textures and pick a checkmark from clipart.
E6: NOTE: (If this option is selected, please provide basic Negotiated Indirect Cost Rate Agreement information in area designated below)
B8: Your Organization may not have a Federally Negotiated Indirect Cost Rate Agreement. Therefore, in order for your Organization to be reimbursed for Indirect Costs from the State of Illinois, your Organization must either: | T8: Complete the Negotiated Indirect Cost Rate Agreement information below if Option (1) or (2a) is selected
C9: A. | D9: Negotiate an Indirect Cost Rate with the State of Illinois’ Indirect Cost Unit with guidance from your State Cognizant Agency on an annual basis.
C10: B. | D10: Elect to use the de minimis rate of 15% modified total direct cost (MTDC) which may be used indefinitely on State of Illinois Awards.
C11: C. | D11: Use a Restricted Rate designated by programmatic or statutory policy. (See Notice of Funding Opportunity for Restricted Rate Programs)
B13: 2a) | E13: Our Organization currently has a Negotiated Indirect Cost Rate Agreement with the State of Illinois that will be accepted by all State of Illinois Agencies up to any statutory, rule-based or programmatic restrictions or limitations. Our Organization is required to submit a new Indirect Cost Rate Proposal to the Indirect Cost Unit within six (6) months after the close of each fiscal year (2 CFR 200 Appendix IV (C)(2)(c).
E14: NOTE: (If this option is selected, please provide basic Indirect Cost Rate information in area designated below)
B15: 2b) | E15: Our Organization currently does not have a Negotiated Indirect Cost Rate Agreement with the State of Illinois. Our Organization will submit our initial Indirect Cost Rate Proposal (ICRP) immediately after our Organization is advised that the State award will be made and, in no event, later than three (3) months after the effective date of the State award (2 CFR 200 Appendix IV (C)(2)(b). The initial ICRP will be sent to the State of Illinois’ Indirect Cost Unit.
E16: NOTE: (Check with your State of Illinois Agency for information regarding reimbursement of indirect costs while your proposal is being negotiated)
B18: 3) | E18: Our Organization has never received a Negotiated Indirect Cost Rate Agreement from either the Federal government or the State of Illinois and elects to charge the de minimis rate of 15% modified total direct cost (MTDC) which may be used indefinitely on State of Illinois awards (2 CFR 200.414 (c)(4)(f) & (200.68).
E19: NOTE: (Your Organization must be eligible, see 2 CFR 200.414 (f), and submit documentation on the calculation of MTDC within your Budget Narrative under Indirect Costs)
B21: 4) | E21: For Restricted Rate Programs (check one) -- Our Organization is using a restricted indirect cost rate that:
E22: _____ | F22: Is included as a “Special Indirect Cost Rate” in our NICRA (2 CFR 200Appendix IV (5) Or;
E23: _____ | F23: Complies with other statutory policies (please specify):
E24: The Restricted Indirect Cost Rate is _________%
B26: 5) | E26: No reimbursement of Indirect Cost is being requested. (Please consult your program office regarding possible match requirements)
B29: Basic Negotiated Indirect Cost Rate Agreement information if Option (1) or (2a) is selected | G29: Period Covered by the NICRA: From: | K29: To: | O29: (mm/dd/yyyy)
G30: Approving Federal/State agency (please specify):
G31: The Indirect Cost Rate is: | I31: % | J31: The Distribution Base is:

Sheet Section B
A1: =+'Section A'!A1 -> STATE OF ILLINOIS | B1: =+'Section A'!B1 -> UNIFORM GRANT BUDGET TEMPLATE | C1: =+'Section A'!E1 -> Commerce & Economic Opportunity | D1: content in rows 1 to 3 & cell C4 come from Section A
A2: ="Organization Name: "&'Section A'!B2 -> Organization Name: | B2: ="NOFO # "&'Section A'!F2 -> NOFO # 3137-4342 | C2: ="Fiscal Year "&'Section A'!F3 -> Fiscal Year 2027
A3: S E C T I O N B -- NON STATE OF ILLINOIS FUNDS | C3: ="Grant Number: "&'Section A'!F4 -> Grant Number:
A4: Revenues | C4: TOTAL REVENUE
A5: Grantee Match Requirement ________ % (Agency to populate)
A6: (b). -Cash | C6: 0
A7: (c). -Non-cash | C7: 0
A8: (d). Other Funding & Contributions | C8: 0
A9: NON-STATE Funds Total | C9: =(C6+C7+C8) -> 0
A10: BUDGET SUMMARY NON-STATE OF ILLINOIS FUNDS | D10: you should not need to type anything in below this row
A11: Budget Expenditure Categories | B11: OMB Uniform Guidance Federal Awards Reference 2 CFR 200 | C11: TOTAL EXPENDITURES
A12: 1. Personnel (Salaries & Wages) | B12: 200.43 | C12: =+'1A'!G26 -> 0
A13: 2. Fringe Benefits | B13: 200.431 | C13: =+'2A'!E25 -> 0
A14: 3. Travel | B14: 200.474 | C14: =+Travel!G15 -> 0
A15: 4. Equipment | B15: 200.439 | C15: =+'Equipment '!D14 -> 0
A16: 5. Supplies | B16: 200.94 | C16: =+Supplies!D20 -> 0
A17: 6. Contractual Services & Subawards | B17: 200.318 & 200.92 | C17: =+'6A'!C20 -> 0
A18: 7. Consultant (Professional Services) | B18: 200.459 | C18: =+'7A'!G12+'7A'!G29 -> 0
A19: 8. Construction | C19: =+'Construction '!C10 -> 0
A20: 9. Occupancy (Rent & Utilities) | B20: 200.465 | C20: =+'Occupancy '!F12 -> 0
A21: 10. Research & Development (R&D) | B21: 200.87 | C21: =+'R & D '!C10 -> 0
A22: 11. Telecommunications | C22: =+'Telecommunications '!F12 -> 0
A23: 12. Training & Education | B23: 200.472 | C23: =+'Training & Education'!F12 -> 0
A24: 13. Direct Administrative costs | B24: 200.413 ( c) | C24: =+'Direct Administrative '!G17 -> 0
A25: 14. Miscellaneous Costs | C25: =+'Miscellaneous (other) Costs '!F16 -> 0
A26: 15. A. Grant Exclusive Line Item(s) | C26: =+'15A'!F19 -> 0
A27: B. Grant Exclusive Line Item(s) | C27: 0
A28: 16. Total Direct Costs (lines 1-15) | B28: 200.413 | C28: =SUM(C12:C27) -> 0
A29: 17. Indirect Costs* (see below) | B29: 200.414 | C29: =+'17A'!D10 -> 0
A30: Rate: __________ % Base:______________________
A31: 18. Total Costs NON -State Grant Funds (16 &17) | C31: =(C28+C29) -> 0

Sheet Certification 
A1: CERTIFICATION | D1: STATE OF ILLINOIS UNIFORM GRANT BUDGET TEMPLATE | G1: ="AGENCY: "&'Section B'!C1 -> AGENCY: Commerce & Economic Opportunity
A2: ="Organization Name: "&'Section A'!B2 -> Organization Name: | D2: ="CSFA Description: "&'Section A'!D3 -> CSFA Description: Climate Works Pre-Apprenticeship Program | G2: ="NOFO # "&'Section A'!F2 -> NOFO # 3137-4342
A3: ="CSFA #: "&'Section A'!B3 -> CSFA #: 420-30-3137 | D3: ="UEI # "&'Section A'!D2 -> UEI # | G3: ="Fiscal Year(s): "&'Section A'!F3 -> Fiscal Year(s): 2027
A5: (2 CFR 200.415)
A6: “By signing this report, I certify to the best of my knowledge and belief that the report is true, complete, and accurate and that any false, fictitious, or fraudulent information or the omission of any material fact, could result in the immediate termination of my grant award(s).
A11: Institution/Organization | E11: Institution/Organization
A14: Signature | E14: Signature
A17: Name of Official | E17: Name of Official
A20: Title | E20: Title
A21: Chief Financial Officer (or equivalent) | E21: Executive Director (or equivalent)
A23: Date of Execution | E23: Date of Execution
A27: Note: The State awarding agency may change required signers based on the grantee’s organizational structure. The required signers must have the authority to enter into contractual agreements on behalf of the organization.

Sheet Sheet1

Sheet 1A
A1: Section C - Budget Worksheet & Narrative | G1: =+'Section A'!B2 -> 0
A2: 1). Personnel (Salaries & Wages) (2 CFR 200.430)--List each position by title and name of employee, if available. Show the annual salary rate and the percentage of time to be devoted to the project and length of time working on the project . Compensation paid for employees engaged in grant activities must be consistent with that paid for similar work within the applicant organization. Include a description of the responsibilities and duties of each position in relationship to fulfilling the project goals and objectives in the narrative space provided below. Also, provide a justification and description of each position (including vacant positions). Relate each position specifically to program objectives. Personnel cannot exceed 100% of their time on all active projects.
A3: A. Climate Works Program Staff -- Personnel costs including salaries and wages (see CFR 200.430) of grantee staff that work on the development and delivery of the Workforce Hub Program Services, excluding supportive services, to program participants
A6: Name | B6: Position(s) | C6: Salary or Wage | D6: Basis (Yr./Mo./Hr.) | E6: % of Time | F6: Length of time | G6: Personnel Cost | I6: Length of time=# of units of Basis
G7: =ROUND(C7*E7*F7,2) -> 0
G8: =ROUND(C8*E8*F8,2) -> 0
G9: =ROUND(C9*E9*F9,2) -> 0
G10: =ROUND(C10*E10*F10,2) -> 0
G11: =ROUND(C11*E11*F11,2) -> 0
G12: =ROUND(C12*E12*F12,2) -> 0
G13: =ROUND(C13*E13*F13,2) -> 0
G14: =ROUND(C14*E14*F14,2) -> 0
G15: =ROUND(C15*E15*F15,2) -> 0
G16: =ROUND(C16*E16*F16,2) -> 0
G17: =ROUND(C17*E17*F17,2) -> 0
G18: =ROUND(C18*E18*F18,2) -> 0
... G21: =ROUND(C21*E21*F21,2) -> 0
F22: State Total | G22: =ROUND(SUM(G7:G21),2) -> 0 | I22: If you need to insert rows, insert them between existing rows that total up to the formula in column G
G24: =ROUND(C24*E24*F24,2) -> 0
G25: =ROUND(C25*E25*F25,2) -> 0
F26: NON-State Total | G26: =ROUND(SUM(G23:G25),2) -> 0 | I26: If you need to insert rows, insert them between existing rows that total up to the formula in column G
F28: Total Personnel - Workforce Hub Program Staff | G28: =+G26+G22 -> 0 | I28: This rows adds State & Non-State Totals
A30: Personnel Narrative (State) - Workforce Hub Program Staff: | I30: Give a brief description of items that you are claiming
I31: To add information on a new line, hold the Alt key and hit Enter. To change the row height, right click on the row number off to the left of the spreadsheet, then click on Row Height
A33: Personnel Narrative (Non-State) i.e. "Match" or "Other Funding" | I33: Give a brief description of items that you are claiming
I34: To add information on a new line, hold the Alt key and hit Enter. To change the row height, right click on the row number off to the left of the spreadsheet, then click on Row Height

Sheet 1B
A1: Section C - Budget Worksheet & Narrative | G1: =+'Section A'!B2 -> 0
A2: 1). Personnel (Salaries & Wages) (2 CFR 200.430)--List each position by title and name of employee, if available. Show the annual salary rate and the percentage of time to be devoted to the project and length of time working on the project . Compensation paid for employees engaged in grant activities must be consistent with that paid for similar work within the applicant organization. Include a description of the responsibilities and duties of each position in relationship to fulfilling the project goals and objectives in the narrative space provided below. Also, provide a justification and description of each position (including vacant positions). Relate each position specifically to program objectives. Personnel cannot exceed 100% of their time on all active projects.
A3: B. Barrier Reduction Staff -- Personnel costs including salaries and wages (see CFR 200.430) of grantee staff that work on the development and delivery of supportive services to program participants
A6: Name | B6: Position(s) | C6: Salary or Wage | D6: Basis (Yr./Mo./Hr.) | E6: % of Time | F6: Length of time | G6: Personnel Cost | I6: Length of time=# of units of Basis
G7: =ROUND(C7*E7*F7,2) -> 0
G8: =ROUND(C8*E8*F8,2) -> 0
G9: =ROUND(C9*E9*F9,2) -> 0
G10: =ROUND(C10*E10*F10,2) -> 0
G11: =ROUND(C11*E11*F11,2) -> 0
G12: =ROUND(C12*E12*F12,2) -> 0
G13: =ROUND(C13*E13*F13,2) -> 0
G14: =ROUND(C14*E14*F14,2) -> 0
G15: =ROUND(C15*E15*F15,2) -> 0
G16: =ROUND(C16*E16*F16,2) -> 0
G17: =ROUND(C17*E17*F17,2) -> 0
G18: =ROUND(C18*E18*F18,2) -> 0
... G21: =ROUND(C21*E21*F21,2) -> 0
F22: State Total | G22: =ROUND(SUM(G7:G21),2) -> 0 | I22: If you need to insert rows, insert them between existing rows that total up to the formula in column G
G24: =ROUND(C24*E24*F24,2) -> 0
G25: =ROUND(C25*E25*F25,2) -> 0
F26: NON-State Total | G26: =ROUND(SUM(G23:G25),2) -> 0 | I26: If you need to insert rows, insert them between existing rows that total up to the formula in column G
F28: Total Personnel - Supportive Service Staff | G28: =+G26+G22 -> 0 | I28: This rows adds State & Non-State Totals
A30: Personnel Narrative (State) - Barrier Reduction Staff: | I30: Give a brief description of items that you are claiming
I31: To add information on a new line, hold the Alt key and hit Enter. To change the row height, right click on the row number off to the left of the spreadsheet, then click on Row Height
A33: Personnel Narrative (Non-State) i.e. "Match" or "Other Funding" | I33: Give a brief description of items that you are claiming
I34: To add information on a new line, hold the Alt key and hit Enter. To change the row height, right click on the row number off to the left of the spreadsheet, then click on Row Height

Sheet 2A
A1: Section C - Budget Worksheet & Narrative | E1: =+'Section A'!B2 -> 0
A2: 2). Fringe Benefits (2 CFR 200.431)--Fringe benefits should be based on actual known costs or an established formula. Fringe benefits are for the personnel listed in category (1) direct salaries and wages, and only for the percentage of time devoted to the project. Provide the fringe benefit rate used and a clear description of how the computation of fringe benefits was done. Provide both the annual (for multiyear awards) and total. If a fringe benefit rate is not used, show how the fringe benefits were computed for each position. The budget justification should be reflected in the budget description. Elements that comprise fringe benefits should be indicated.
A3: A. Climate Works Program Staff -- Fringe Benefit costs (see CFR 200.431) of grantee staff that work on the development and delivery of the Workforce Hub Program Services, excluding supportive services, to program participants
A5: Name | B5: Position(s) | C5: Base | D5: Rate | E5: Fringe Benefit Cost
E6: =ROUND(C6*D6,2) -> 0
E7: =ROUND(C7*D7,2) -> 0
E8: =ROUND(C8*D8,2) -> 0
E9: =ROUND(C9*D9,2) -> 0
E10: =ROUND(C10*D10,2) -> 0
E11: =ROUND(C11*D11,2) -> 0
E12: =ROUND(C12*D12,2) -> 0
E13: =ROUND(C13*D13,2) -> 0
E14: =ROUND(C14*D14,2) -> 0
E15: =ROUND(C15*D15,2) -> 0
E16: =ROUND(C16*D16,2) -> 0
E17: =ROUND(C17*D17,2) -> 0
... E20: =ROUND(C20*D20,2) -> 0
D21: State Total | E21: =ROUND(SUM(E6:E20),2) -> 0 | G21: If you need to insert rows, insert them between existing rows that total up to the formula in column E
E23: =ROUND(C23*D23,2) -> 0
E24: =ROUND(C24*D24,2) -> 0
D25: NON-State Total | E25: =ROUND(SUM(E22:E24),2) -> 0 | G25: If you need to insert rows, insert them between existing rows that total up to the formula in column E
D27: Total Fringe Benefits - Workforce Hub Program Staff | E27: =+E25+E21 -> 0 | G27: This rows adds State & Non-State Totals
A29: Fringe Benefits Narrative (State) - Workforce Hub Program Staff: | G29: Give a brief description of items that you are claiming
G30: To add information on a new line, hold the Alt key and hit Enter. To change the row height, right click on the row number off to the left of the spreadsheet, then click on Row Height
A32: Fringe Benefits Narrative (Non-State) i.e. "Match" or "Other Funding" | G32: Give a brief description of items that you are claiming
G33: To add information on a new line, hold the Alt key and hit Enter. To change the row height, right click on the row number off to the left of the spreadsheet, then click on Row Height

Sheet 2B
A1: Section C - Budget Worksheet & Narrative | E1: =+'Section A'!B2 -> 0
A2: 2). Fringe Benefits (2 CFR 200.431)--Fringe benefits should be based on actual known costs or an established formula. Fringe benefits are for the personnel listed in category (1) direct salaries and wages, and only for the percentage of time devoted to the project. Provide the fringe benefit rate used and a clear description of how the computation of fringe benefits was done. Provide both the annual (for multiyear awards) and total. If a fringe benefit rate is not used, show how the fringe benefits were computed for each position. The budget justification should be reflected in the budget description. Elements that comprise fringe benefits should be indicated.
A3: B. Supportive Service Staff -- Fringe Benefit costs (see CFR 200.431) of grantee staff that work on the development and delivery of supportive services to program participants
A5: Name | B5: Position(s) | C5: Base | D5: Rate | E5: Fringe Benefit Cost
E6: =ROUND(C6*D6,2) -> 0
E7: =ROUND(C7*D7,2) -> 0
E8: =ROUND(C8*D8,2) -> 0
E9: =ROUND(C9*D9,2) -> 0
E10: =ROUND(C10*D10,2) -> 0
E11: =ROUND(C11*D11,2) -> 0
E12: =ROUND(C12*D12,2) -> 0
E13: =ROUND(C13*D13,2) -> 0
E14: =ROUND(C14*D14,2) -> 0
E15: =ROUND(C15*D15,2) -> 0
E16: =ROUND(C16*D16,2) -> 0
E17: =ROUND(C17*D17,2) -> 0
... E20: =ROUND(C20*D20,2) -> 0
D21: State Total | E21: =ROUND(SUM(E6:E20),2) -> 0 | G21: If you need to insert rows, insert them between existing rows that total up to the formula in column E
E23: =ROUND(C23*D23,2) -> 0
E24: =ROUND(C24*D24,2) -> 0
D25: NON-State Total | E25: =ROUND(SUM(E22:E24),2) -> 0 | G25: If you need to insert rows, insert them between existing rows that total up to the formula in column E
D27: Total Fringe Benefits - Supportive Service Staff | E27: =+E25+E21 -> 0 | G27: This rows adds State & Non-State Totals
A29: Fringe Benefits Narrative (State) - Barrier Reduction Staff: | G29: Give a brief description of items that you are claiming
G30: To add information on a new line, hold the Alt key and hit Enter. To change the row height, right click on the row number off to the left of the spreadsheet, then click on Row Height
A32: Fringe Benefits Narrative (Non-State) i.e. "Match" or "Other Funding" | G32: Give a brief description of items that you are claiming
G33: To add information on a new line, hold the Alt key and hit Enter. To change the row height, right click on the row number off to the left of the spreadsheet, then click on Row Height

Sheet Travel
A1: Section C - Budget Worksheet & Narrative | G1: =+'Section A'!B2 -> 0
A2: 3). Travel (2 CFR 200.474)-- Travel should include: origin and destination, estimated costs and type of transportation, number of travelers, related lodging and per diem costs, brief description of the travel involved, its purpose, and explanation of how the proposed travel is necessary for successful completion of the project. In training projects, travel and meals for trainees should be listed separately. Show the number of trainees and unit cost involved. Identify the location of travel, if known; or if unknown, indicate "location to be determined." Indicate source of Travel Policies applied, Applicant or State of Illinois Travel Regulations. NOTE: Dollars requested in the travel category should be for staff travel only. Travel for consultants should be shown in the consultant category along with the consultant’s fee. Travel for training participants, advisory committees, review panels and etc., should be itemized the same way as indicated above and placed in the “Miscellaneous” category.
A4: Purpose of Travel/Items | B4: Location | C4: Cost Rate | D4: Basis | E4: Quantity | F4: # of Trips | G4: Travel Cost
G5: =ROUND(+C5*E5*F5,2) -> 0
G6: =ROUND(+C6*E6*F6,2) -> 0
G7: =ROUND(+C7*E7*F7,2) -> 0
G8: =ROUND(+C8*E8*F8,2) -> 0
G9: =ROUND(+C9*E9*F9,2) -> 0
G10: =ROUND(+C10*E10*F10,2) -> 0
F11: State Total | G11: =ROUND(SUM(G5:G10),2) -> 0 | I11: If you need to insert rows, insert them between existing rows that total up to the formula in column G
A13: Purpose of Travel | B13: Location | G13: =ROUND(+C13*E13*F13,2) -> 0
A14: Purpose of Travel | B14: Location | G14: =ROUND(+C14*E14*F14,2) -> 0
F15: NON-State Total | G15: =ROUND(SUM(G12:G14),2) -> 0 | I15: If you need to insert rows, insert them between existing rows that total up to the formula in column G
F17: Total Travel | G17: =+G15+G11 -> 0 | I17: This rows adds State & Non-State Totals
A19: Travel Narrative (State): | I19: Give a brief description of items that you are claiming
I20: To add information on a new line, hold the Alt key and hit Enter. To change the row height, right click on the row number off to the left of the spreadsheet, then click on Row Height
A22: Travel Narrative (Non-State) i.e. "Match" or "Other Funding" | I22: Give a brief description of items that you are claiming
I23: To add information on a new line, hold the Alt key and hit Enter. To change the row height, right click on the row number off to the left of the spreadsheet, then click on Row Height

Sheet Equipment 
A1: Section C - Budget Worksheet & Narrative | D1: =+'Section A'!B2 -> 0
A2: 4). Equipment (2 CFR 200.439)-- Provide justification for the use of each item and relate them to specific program objectives. Provide both the annual (for multiyear awards) and total for equipment. Equipment is defined as an article of tangible personal property that has a useful life of more than one year and a per-unit acquisition cost which equals or exceeds the lesser of the capitalization level established by the non-Federal entity for financial statement purposes, or $5,000. An applicant organization may classify equipment at a lower dollar value but cannot classify it higher than $5,000. (Note: Organization's own capitalization policy for classification of equipment can be used). Applicants should analyze the cost benefits of purchasing versus leasing equipment, especially high cost items and those subject to rapid technical advances. Rented or leased equipment costs should be listed in the "Contractual" category. Explain how the equipment is necessary for the success of the project. Attach a narrative describing the procurement method to be used.
A4: Item | B4: Quantity | C4: Cost | D4: Equipment Cost
D5: =ROUND(+B5*C5,2) -> 0
D6: =ROUND(+B6*C6,2) -> 0
D7: =ROUND(+B7*C7,2) -> 0
D8: =ROUND(+B8*C8,2) -> 0
D9: =ROUND(+B9*C9,2) -> 0
C10: State Total | D10: =ROUND(SUM(D5:D9),2) -> 0 | F10: If you need to insert rows, insert them between existing rows that total up to the formula in column D
A12: Item | D12: =ROUND(+B12*C12,2) -> 0
A13: Item | D13: =ROUND(+B13*C13,2) -> 0
C14: NON-State Total | D14: =ROUND(SUM(D11:D13),2) -> 0 | F14: If you need to insert rows, insert them between existing rows that total up to the formula in column D
B16: Total Equipment | D16: =+D14+D10 -> 0 | F16: This rows adds State & Non-State Totals
A18: Equipment Narrative (State): | F18: Give a brief description of items that you are claiming
F19: To add information on a new line, hold the Alt key and hit Enter. To change the row height, right click on the row number off to the left of the spreadsheet, then click on Row Height
A21: Equipment Narrative (Non-State) i.e. "Match" or "Other Funding" | F21: Give a brief description of items that you are claiming
F22: To add information on a new line, hold the Alt key and hit Enter. To change the row height, right click on the row number off to the left of the spreadsheet, then click on Row Height

Sheet Supplies
A1: Section C - Budget Worksheet & Narrative | D1: =+'Section A'!B2 -> 0
A2: 5). Supplies (2 CFR 200.94)--List items by type (office supplies, postage, training materials, copying paper, and other expendable items such as books, hand held tape recorders) and show the basis for computation. Generally, supplies include any materials that are expendable or consumed during the course of the project.
A3: Item | B3: Quantity/ Duration | C3: Cost | D3: Supplies Cost
D4: =ROUND(B4*C4,2) -> 0
D5: =ROUND(B5*C5,2) -> 0
D6: =ROUND(B6*C6,2) -> 0
D7: =ROUND(B7*C7,2) -> 0
D8: =ROUND(B8*C8,2) -> 0
D9: =ROUND(B9*C9,2) -> 0
D10: =ROUND(B10*C10,2) -> 0
D11: =ROUND(B11*C11,2) -> 0
D12: =ROUND(B12*C12,2) -> 0
D13: =ROUND(B13*C13,2) -> 0
D14: =ROUND(B14*C14,2) -> 0
D15: =ROUND(B15*C15,2) -> 0
C16: State Total | D16: =ROUND(SUM(D4:D15),2) -> 0 | F16: If you need to insert rows, insert them between existing rows that total up to the formula in column D
A18: Supply Items | D18: =ROUND(B18*C18,2) -> 0
A19: Supply Items | D19: =ROUND(B19*C19,2) -> 0
C20: NON-State Total | D20: =ROUND(SUM(D17:D19),2) -> 0 | F20: If you need to insert rows, insert them between existing rows that total up to the formula in column D
B22: Total Supplies | D22: =+D16+D20 -> 0 | F22: This rows adds State & Non-State Totals
A24: Supplies Narrative (State): | F24: Give a brief description of items that you are claiming
F25: To add information on a new line, hold the Alt key and hit Enter. To change the row height, right click on the row number off to the left of the spreadsheet, then click on Row Height
A27: Supplies Narrative (Non-State) i.e. "Match" or "Other Funding" | F27: Give a brief description of items that you are claiming
F28: To add information on a new line, hold the Alt key and hit Enter. To change the row height, right click on the row number off to the left of the spreadsheet, then click on Row Height

Sheet 6A
A1: Section C - Budget Worksheet & Narrative | C1: =+'Section A'!B2 -> 0
A2: 6). Contractual Services (2 CFR 200.318) & Subawards (200.92) -- Provide a description of the product or service to be procured by contract and an estimate of the cost. Applicants are encouraged to promote free and open competition in awarding contracts. A separate justification must be provided for sole contracts in excess of $150,000 (See 2 CFR 200.88). NOTE : this budget category may include subawards. Provide separate budgets for each subaward or contract, regardless of the dollar value and indicate the basis for the cost estimates in the narrative. Describe products or services to be obtained and indicate the applicability or necessity of each to the project.
A3: Please also note the differences between subaward, contract, and contractor (vendor):
A4: 1) Subaward (200.92) means an award provided by a pass-through entity to a subrecipient for the subrecipient to carry out part of a Federal/State award, including a portion of the scope of work or objectives. It does not include payments to a contractor or payments to an individual that is a beneficiary of a Federal/State program. 2) Contract (200.22) means a legal instrument by which a non-Federal entity purchases property or services needed to carry out the project or program under a Federal award. The term as used in this part does not include a legal instrument, even if the non-Federal entity considers it a contract, when the substance of the transaction meets the definition of a Federal award or subaward. 3) "Vendor" or "Contractor" is generally a dealer, distributor or other seller that provides supplies, expendable materials, or data processing services in support of the project activities.
A5: A. Climate Works Program Contractors - Contractual Service or Subaward costs associated with the development and delivery of the Workforce Hub Program Services, excluding supportive services, to program participants
A7: Item | C7: Contractual Services Cost
C9: 0
C10: 0
C11: 0
C12: 0
C13: 0
C14: 0
C15: 0
B16: State Total | C16: =ROUND(SUM(C9:C15),2) -> 0 | E16: If you need to insert rows, insert them between existing rows that total up to the formula in column C
B20: NON-State Total | C20: =ROUND(SUM(C17:C19),2) -> 0 | E20: If you need to insert rows, insert them between existing rows that total up to the formula in column C
B22: Total Contractual Services - Workforce Hub Program Contractors | C22: =+C16+C20 -> 0 | E22: This rows adds State & Non-State Totals
A24: Contractual Services Narrative (State) - Workforce Hub Program Contractors: | E24: Give a brief description of items that you are claiming
E25: To add information on a new line, hold the Alt key and hit Enter. To change the row height, right click on the row number off to the left of the spreadsheet, then click on Row Height
A27: Contractual Services Narrative (Non-State) i.e. "Match" or "Other Funding" | E27: Give a brief description of items that you are claiming
E28: To add information on a new line, hold the Alt key and hit Enter. To change the row height, right click on the row number off to the left of the spreadsheet, then click on Row Height

Sheet 6B
A1: Section C - Budget Worksheet & Narrative | C1: =+'Section A'!B2 -> 0
A2: 6). Contractual Services (2 CFR 200.318) & Subawards (200.92) -- Provide a description of the product or service to be procured by contract and an estimate of the cost. Applicants are encouraged to promote free and open competition in awarding contracts. A separate justification must be provided for sole contracts in excess of $150,000 (See 2 CFR 200.88). NOTE : this budget category may include subawards. Provide separate budgets for each subaward or contract, regardless of the dollar value and indicate the basis for the cost estimates in the narrative. Describe products or services to be obtained and indicate the applicability or necessity of each to the project.
A3: Please also note the differences between subaward, contract, and contractor (vendor):
A4: 1) Subaward (200.92) means an award provided by a pass-through entity to a subrecipient for the subrecipient to carry out part of a Federal/State award, including a portion of the scope of work or objectives. It does not include payments to a contractor or payments to an individual that is a beneficiary of a Federal/State program. 2) Contract (200.22) means a legal instrument by which a non-Federal entity purchases property or services needed to carry out the project or program under a Federal award. The term as used in this part does not include a legal instrument, even if the non-Federal entity considers it a contract, when the substance of the transaction meets the definition of a Federal award or subaward. 3) "Vendor" or "Contractor" is generally a dealer, distributor or other seller that provides supplies, expendable materials, or data processing services in support of the project activities.
A5: B. Barrier Reduction Fund Contractors - Contractual Service or Subaward costs associated with the development and delivery of supportive services to program participants
A7: Item | C7: Contractual Services Cost
C9: 0
C10: 0
C11: 0
C12: 0
C13: 0
C14: 0
C15: 0
B16: State Total | C16: =ROUND(SUM(C9:C15),2) -> 0 | E16: If you need to insert rows, insert them between existing rows that total up to the formula in column C
B20: NON-State Total | C20: =ROUND(SUM(C17:C19),2) -> 0 | E20: If you need to insert rows, insert them between existing rows that total up to the formula in column C
B22: Total Contractual Services - Supportive Service Contractors | C22: =+C16+C20 -> 0 | E22: This rows adds State & Non-State Totals
A24: Contractual Services Narrative (State) - Barrier Reduction Fund Contractors: | E24: Give a brief description of items that you are claiming
E25: To add information on a new line, hold the Alt key and hit Enter. To change the row height, right click on the row number off to the left of the spreadsheet, then click on Row Height
A27: Contractual Services Narrative (Non-State) i.e. "Match" or "Other Funding" | E27: Give a brief description of items that you are claiming
E28: To add information on a new line, hold the Alt key and hit Enter. To change the row height, right click on the row number off to the left of the spreadsheet, then click on Row Height

Sheet Construction 
A1: Section C - Budget Worksheet & Narrative | C1: =+'Section A'!B2 -> 0
A2: 8). Construction-- Provide a description of the construction project and an estimate of the costs. As a rule, construction costs are not allowable unless with prior written approval. In some cases, minor repairs or renovations may be allowable. Consult with the program office before budgeting funds in this category. Estimated construction costs must be supported by documentation including drawings and estimates, formal bids, etc. As with all other costs, follow the specific requirements of the program, the terms and conditions of the award, and applicable regulations.
A3: Purpose | B3: Description of Work | C3: Construction Cost
A4: Purpose | B4: Description of Work | C4: 0 | E4: Consult with Program Office before budgeting Construction costs.
A5: Purpose | B5: Description of Work | C5: 0 | E5: Consult with Program Office before budgeting Construction costs.
B6: State Total | C6: =ROUND(SUM(C4:C5),2) -> 0 | E6: If you need to insert rows, insert them between existing rows that total up to the formula in column C
A8: purpose | B8: description | C8: 0
A9: purpose | B9: description | C9: 0
B10: NON-State Total | C10: =ROUND(SUM(C7:C9),2) -> 0 | E10: If you need to insert rows, insert them between existing rows that total up to the formula in column C
B12: Total Construction | C12: =+C10+C6 -> 0 | E12: This rows adds State & Non-State Totals
A14: Construction Narrative (State): | E14: Give a brief description of items that you are claiming
A15: ajfiopeuqfiowep | E15: To add information on a new line, hold the Alt key and hit Enter. To change the row height, right click on the row number off to the left of the spreadsheet, then click on Row Height
A17: Construction Narrative (Non-State) i.e. "Match" or "Other Funding" | E17: Give a brief description of items that you are claiming
A18: wrepoituoweiup | E18: To add information on a new line, hold the Alt key and hit Enter. To change the row height, right click on the row number off to the left of the spreadsheet, then click on Row Height

Sheet 7A
A1: Section C - Budget Worksheet & Narrative | G1: =+'Section A'!B2 -> 0
A2: 7A). Consultant Services and Expenses - Climate Works Program (2 CFR 200.459)-- Consultant Services (Fees): For each consultant enter the name, if known, service to be provided, hourly or daily fee (8-hour day), and estimated time on the project. Consultant Expenses: List all expenses to be paid from the grant to the individual consultant in addition to their fees (i.e., travel, meals, lodging, etc.) Consultant-- Indicate whether applicant's formal, written Procurement Policy or the Federal Acquisitions Policy is used.
A3: Consultant Services (Fees) | B3: Services Provided | D3: Fee | E3: Basis | F3: Quantity | G3: Consultant Services (Fee) Cost
G4: =ROUND(+D4*F4,2) -> 0
G5: =ROUND(+D5*F5,2) -> 0
G6: =ROUND(+D6*F6,2) -> 0
G7: =ROUND(+D7*F7,2) -> 0
F8: State Total | G8: =ROUND(SUM(G4:G7),2) -> 0 | I8: If you need to insert rows, insert them between existing rows that total up to the formula in column G
A10: Consultant Services (Fees) | B10: Service Provided | G10: =ROUND(+D10*F10,2) -> 0
A11: Consultant Services (Fees) | B11: Service Provided | G11: =ROUND(+D11*F11,2) -> 0
F12: NON-State Total | G12: =ROUND(SUM(G9:G11),2) -> 0 | I12: If you need to insert rows, insert them between existing rows that total up to the formula in column G
F14: Total Consultant Services (Fees) | G14: =+G12+G8 -> 0
A16: Consultant Services Narrative (State): | I16: Give a brief description of items that you are claiming
I17: To add information on a new line, hold the Alt key and hit Enter.
A19: Consultant Services Narrative (Non-State) i.e. "Match" or "Other Funding" | I19: Give a brief description of items that you are claiming
I20: To add information on a new line, hold the Alt key and hit Enter.
A22: Consultant Expenses - Item | B22: Location | C22: Cost Rate | D22: Basis | E22: Quantity | F22: # of Trips
G23: =ROUND(C23*E23*F23,2) -> 0
G24: =ROUND(C24*E24*F24,2) -> 0
F25: State Total | G25: =ROUND(SUM(G23:G24),2) -> 0 | I25: If you need to insert rows, insert them between existing rows that total up to the formula in column G
A27: Consultant Expenses | B27: Location | G27: =ROUND(C27*E27*F27,2) -> 0
A28: Consultant Expenses | B28: Location | G28: =ROUND(C28*E28*F28,2) -> 0
F29: NON-State Total | G29: =ROUND(SUM(G26:G28),2) -> 0 | I29: If you need to insert rows, insert them between existing rows that total up to the formula in column G
F31: Total Consultant Expenses | G31: =+G29+G25 -> 0
A33: Consultant Expenses Narrative (State): | I33: Give a brief description of items that you are claiming
I34: To add information on a new line, hold the Alt key and hit Enter. To change the row height, right click on the row number off to the left of the spreadsheet, then click on Row Height
A36: Consultant Expenses Narrative (Non-State) i.e. "Match" or "Other Funding" | I36: Give a brief description of items that you are claiming
I37: To add information on a new line, hold the Alt key and hit Enter. To change the row height, right click on the row number off to the left of the spreadsheet, then click on Row Height

Sheet 7B
A1: Section C - Budget Worksheet & Narrative | G1: =+'Section A'!B2 -> 0
A2: 7B). Barrier Reduction Consultant Services and Expenses (2 CFR 200.459)-- Consultant Services (Fees): For each consultant enter the name, if known, service to be provided, hourly or daily fee (8-hour day), and estimated time on the project. Consultant Expenses: List all expenses to be paid from the grant to the individual consultant in addition to their fees (i.e., travel, meals, lodging, etc.) Consultant-- Indicate whether applicant's formal, written Procurement Policy or the Federal Acquisitions Policy is used.
A3: Consultant Services (Fees) | B3: Services Provided | D3: Fee | E3: Basis | F3: Quantity | G3: Consultant Services (Fee) Cost
G4: =ROUND(+D4*F4,2) -> 0
G5: =ROUND(+D5*F5,2) -> 0
G6: =ROUND(+D6*F6,2) -> 0
G7: =ROUND(+D7*F7,2) -> 0
F8: State Total | G8: =ROUND(SUM(G4:G7),2) -> 0 | I8: If you need to insert rows, insert them between existing rows that total up to the formula in column G
A10: Consultant Services (Fees) | B10: Service Provided | G10: =ROUND(+D10*F10,2) -> 0
A11: Consultant Services (Fees) | B11: Service Provided | G11: =ROUND(+D11*F11,2) -> 0
F12: NON-State Total | G12: =ROUND(SUM(G9:G11),2) -> 0 | I12: If you need to insert rows, insert them between existing rows that total up to the formula in column G
F14: Total Consultant Services (Fees) | G14: =+G12+G8 -> 0
A16: Consultant Services Narrative (State): | I16: Give a brief description of items that you are claiming
I17: To add information on a new line, hold the Alt key and hit Enter.
A19: Consultant Services Narrative (Non-State) i.e. "Match" or "Other Funding" | I19: Give a brief description of items that you are claiming
I20: To add information on a new line, hold the Alt key and hit Enter.
A22: Consultant Expenses - Item | B22: Location | C22: Cost Rate | D22: Basis | E22: Quantity | F22: # of Trips
G23: =ROUND(C23*E23*F23,2) -> 0
G24: =ROUND(C24*E24*F24,2) -> 0
F25: State Total | G25: =ROUND(SUM(G23:G24),2) -> 0 | I25: If you need to insert rows, insert them between existing rows that total up to the formula in column G
A27: Consultant Expenses | B27: Location | G27: =ROUND(C27*E27*F27,2) -> 0
A28: Consultant Expenses | B28: Location | G28: =ROUND(C28*E28*F28,2) -> 0
F29: NON-State Total | G29: =ROUND(SUM(G26:G28),2) -> 0 | I29: If you need to insert rows, insert them between existing rows that total up to the formula in column G
F31: Total Consultant Expenses | G31: =+G29+G25 -> 0
A33: Consultant Expenses Narrative (State): | I33: Give a brief description of items that you are claiming
I34: To add information on a new line, hold the Alt key and hit Enter. To change the row height, right click on the row number off to the left of the spreadsheet, then click on Row Height
A36: Consultant Expenses Narrative (Non-State) i.e. "Match" or "Other Funding" | I36: Give a brief description of items that you are claiming
I37: To add information on a new line, hold the Alt key and hit Enter. To change the row height, right click on the row number off to the left of the spreadsheet, then click on Row Height

Sheet Occupancy 
A1: Section C - Budget Worksheet & Narrative | F1: =+'Section A'!B2 -> 0
A2: 9). Occupancy -Rent and Utilities (2 CFR 200.465)-- List items and descriptions by major type and the basis of the computation. Explain how rental and utility expenses are allocated for distribution as an expense to the program/service. For example, provide the square footage and the cost per square foot rent and utility, and provide a monthly rental and utility cost and how many months to rent. NOTE: This budgetary line item is to be used for direct program rent and utilities, all other indirect or administrative occupancy costs should be listed in the indirect expense section of the Budget worksheet and narrative. Maintenance and repair costs may be included here if directly allocated to program.
A4: Description | B4: Quantity | C4: Basis | D4: Cost | E4: Length of time | F4: Occupancy Cost | H4: Length of time=# of units of Basis
F5: =ROUND(+B5*D5*E5,2) -> 0
F6: =ROUND(+B6*D6*E6,2) -> 0
F7: =ROUND(+B7*D7*E7,2) -> 0
E8: State Total | F8: =ROUND(SUM(F5:F7),2) -> 0 | H8: If you need to insert rows, insert them between existing rows that total up to the formula in column F
A10: description | F10: =ROUND(+B10*D10*E10,2) -> 0
A11: description | F11: =ROUND(+B11*D11*E11,2) -> 0
E12: NON-State Total | F12: =ROUND(SUM(F9:F11),2) -> 0 | H12: If you need to insert rows, insert them between existing rows that total up to the formula in column F
E14: Total Occupancy | F14: =+F12+F8 -> 0 | H14: This rows adds State & Non-State Totals
A16: Occupancy Narrative (State): | H16: Give a brief description of items that you are claiming
H17: To add information on a new line, hold the Alt key and hit Enter. To change the row height, right click on the row number off to the left of the spreadsheet, then click on Row Height
A19: Occupancy Narrative (Non-State) i.e. "Match" or "Other Funding" | H19: Give a brief description of items that you are claiming
H20: To add information on a new line, hold the Alt key and hit Enter. To change the row height, right click on the row number off to the left of the spreadsheet, then click on Row Height

Sheet R & D 
A1: Section C - Budget Worksheet & Narrative | C1: =+'Section A'!B2 -> 0
A2: 10). Research & Development (R&D) (2 CFR 200.87)-- Definition: All research activities, both basic and applied, and all development activities that are performed by non-Federal entities directed toward the production of useful materials, devices, systems, or methods, including design and development of prototypes and processes. Provide a description of the research and development project and an estimate of the costs. NOTE: Consult with the program office before budgeting funds in this category.
A3: Purpose | B3: Description of Work | C3: Research & Development Cost
A4: Purpose | B4: Description of Work | C4: 0
A5: Purpose | B5: Description of Work | C5: 0
B6: State Total | C6: =ROUND(SUM(C4:C5),2) -> 0 | E6: If you need to insert rows, insert them between existing rows that total up to the formula in column C
A8: purpose | B8: description of work | C8: 0
A9: purpose | B9: description of work | C9: 0
B10: NON-State Total | C10: =ROUND(SUM(C7:C9),2) -> 0 | E10: If you need to insert rows, insert them between existing rows that total up to the formula in column C
B12: Total R & D | C12: =+C10+C6 -> 0 | E12: This rows adds State & Non-State Totals
A14: R & D Narrative (State): | E14: Give a brief description of items that you are claiming
A15: foaipseufoisdjif | E15: To add information on a new line, hold the Alt key and hit Enter. To change the row height, right click on the row number off to the left of the spreadsheet, then click on Row Height
A17: R & D Narrative (Non-State) i.e. "Match" or "Other Funding" | E17: Give a brief description of items that you are claiming
A18: egarpoigpoida | E18: To add information on a new line, hold the Alt key and hit Enter. To change the row height, right click on the row number off to the left of the spreadsheet, then click on Row Height

Sheet Telecommunications 
A1: Section C - Budget Worksheet & Narrative | F1: =+'Section A'!B2 -> 0
A2: 11). Telecommunications -- List items and descriptions by major type and the basis of the computation. Explain how telecommunication expenses are allocated for distribution as an expense to the program/service. NOTE: This budgetary line item is to be used for direct program telecommunications, all other indirect or administrative telecommunication costs should be listed in the indirect expense section of the Budget worksheet and narrative.
A4: Description | B4: Quantity | C4: Basis | D4: Cost | E4: Length of time | F4: Telecommunications Cost
F5: =ROUND(+B5*D5*E5,2) -> 0
F6: =ROUND(+B6*D6*E6,2) -> 0
F7: =ROUND(+B7*D7*E7,2) -> 0
E8: State Total | F8: =ROUND(SUM(F5:F7),2) -> 0 | H8: If you need to insert rows, insert them between existing rows that total up to the formula in column F
A10: description | F10: =ROUND(+B10*D10*E10,2) -> 0
A11: description | F11: =ROUND(+B11*D11*E11,2) -> 0
E12: NON-State Total | F12: =ROUND(SUM(F9:F11),2) -> 0 | H12: If you need to insert rows, insert them between existing rows that total up to the formula in column F
C14: Total Telecommunications | F14: =+F12+F8 -> 0 | H14: This rows adds State & Non-State Totals
A16: Telecommunications Narrative (State): | H16: Give a brief description of items that you are claiming
H17: To add information on a new line, hold the Alt key and hit Enter. To change the row height, right click on the row number off to the left of the spreadsheet, then click on Row Height
A19: Telecommunications Narrative (Non-State) i.e. "Match" or "Other Funding" | H19: Give a brief description of items that you are claiming
H20: To add information on a new line, hold the Alt key and hit Enter. To change the row height, right click on the row number off to the left of the spreadsheet, then click on Row Height

Sheet Training & Education
A1: Section C - Budget Worksheet & Narrative | F1: =+'Section A'!B2 -> 0
A2: 12). Training and Education (2 CFR 200.472) -- Describe the training and education cost associated with employee development. Include rental space for training (if required), training materials, speaker fees, substitute teacher fees, and any other applicable expenses related to the training. When training materials (pamphlets, notebooks, videos, and other various handouts) are ordered for specific training activities, these items should be itemized below.
A4: Description | B4: Quantity | C4: Basis | D4: Cost | E4: Length of time | F4: Training & Education Cost | H4: Length of time=# of units of Basis
F5: =ROUND(+B5*D5*E5,2) -> 0
F6: =ROUND(+B6*D6*E6,2) -> 0
F7: =ROUND(+B7*D7*E7,2) -> 0
E8: State Total | F8: =ROUND(SUM(F5:F7),2) -> 0 | H8: If you need to insert rows, insert them between existing rows that total up to the formula in column F
A10: description | F10: =ROUND(+B10*D10*E10,2) -> 0
A11: description | F11: =ROUND(+B11*D11*E11,2) -> 0
E12: NON-State Total | F12: =ROUND(SUM(F9:F11),2) -> 0 | H12: If you need to insert rows, insert them between existing rows that total up to the formula in column F
C14: Total Training & Education | F14: =+F12+F8 -> 0 | H14: This rows adds State & Non-State Totals
A16: Training & Education Narrative (State): | H16: Give a brief description of items that you are claiming
H17: To add information on a new line, hold the Alt key and hit Enter. To change the row height, right click on the row number off to the left of the spreadsheet, then click on Row Height
A19: Training & Education Narrative (Non-State) i.e. "Match" or "Other Funding" | H19: Give a brief description of items that you are claiming
H20: To add information on a new line, hold the Alt key and hit Enter. To change the row height, right click on the row number off to the left of the spreadsheet, then click on Row Height

Sheet Direct Administrative 
A1: Section C - Budget Worksheet & Narrative | G1: =+'Section A'!B2 -> 0
A2: 13). Direct Administrative Costs - (2 CFR 200.413 (c) The salaries of administrative and clerical staff should normally be treated as indirect (F&A) costs. Direct charging of these costs may be appropriate only if all of the following conditions are met: (1) Administrative or clerical services are integral to a project or activity; (2) Individuals involved can be specifically identified with the project or activity; (3) Such costs are explicitly included in the budget or have the prior written approval of the State awarding agency; and (4) The costs are not also recovered as indirect costs.
A4: Name | B4: Position | C4: Salary or Wage | D4: Basis (Yr./Mo./Hr.) | E4: % of Time | F4: Length of time | G4: Direct Administrative Cost | I4: Length of time=# of units of Basis
G5: =ROUND(+C5*E5*F5,2) -> 0
G6: =ROUND(+C6*E6*F6,2) -> 0
G7: =ROUND(+C7*E7*F7,2) -> 0
G8: =ROUND(+C8*E8*F8,2) -> 0
G9: =ROUND(+C9*E9*F9,2) -> 0
G10: =ROUND(+C10*E10*F10,2) -> 0
G11: =ROUND(+C11*E11*F11,2) -> 0
G12: =ROUND(+C12*E12*F12,2) -> 0
