Workbook
Name OLE_LINK1: AgencyApproval!#REF!
Name OLE_LINK2: AgencyApproval!#REF!
Name OLE_LINK4: 'General Instructions'!#REF!

Sheet General Instructions
B1: State of Illinois -- Uniform Budget Template -- General Instructions | N1: =+'Section A'!B2 -> Cornucopia-Galesburg Inc
B3: This form is used to apply to individual State of Illinois discretionary grant programs. Applicants should submit budgets based upon the total estimated costs for the project including all funding sources. Pay attention to applicable program specific instructions, if attached. The applicant organization should refer to 2 CFR 200, “Uniform Administrative Requirements, Cost Principles, and Audit Requirements for Federal Awards” cited within these instructions.
B5: You must consult with your Business Office prior to submitting this form for any award restrictions, limitations or requirements when filling out the narrative and Uniform Budget Template.
B6: Section A – Budget Summary
B7: STATE OF ILLINOIS FUNDS
B8: All applicants must complete Section A and provide a break-down by the applicable budget categories shown in lines 1-12. Please read all instructions before completing form.
B9: STATE OF ILLINOIS GRANT FUNDS
B10: Provide a total requested State of Illinois Grant amount in the Revenue portion of Section A. The amount entered in Line (a) will equal the total amount budgeted on Line 12 of Section A.
B11: BUDGET SUMMARY – STATE OF ILLINOIS FUNDS
B12: All applicants must complete Section A and provide a break-down by the applicable budget categories shown in lines 1-12.
B14: Row 6: Show the total budget request for which funding is requested.
B16: Please use detail worksheet and narrative section for further descriptions and explanations of budgetary line items
B18: Section A (continued) Indirect Cost Information: (This information should be completed by the applicant’s Business Office). If the applicant is requesting reimbursement for indirect costs on line 18, the applicant’s Business Office must select one of the options listed on the Indirect Cost Information page under Section-A Indirect Cost Information (1-5).
... B96: (e) The Federal/State awarding agency may, at its option, restrict the transfer of funds among direct cost categories or programs, functions and activities for Federal/State awards in which the Federal/State share of the project exceeds the Simplified Acquisition Threshold and the cumulative amount of such transfers exceeds or is expected to exceed 10 percent or $1,000 per detail line item, whichever is greater of the total budget as last approved by the Federal/State awarding agency. The Federal/State awarding agency cannot permit a transfer that would cause any Federal/State appropriation to be used for purposes other than those consistent with the appropriation.

Sheet Section A
A1: STATE OF ILLINOIS | B1: UNIFORM GRANT BUDGET TEMPLATE | E1: Commerce & Economic Opportunity
A2: Organization Name: | B2: Cornucopia-Galesburg Inc | C2: UEI | D2: U4V5JALKHMX7 | E2: NOFO # | F2: 3295-2956 | G2: Please type in the light blue highlighted cells
A3: CSFA Number: | B3: 420-35-3295 | C3: CSFA Description: | D3: Illinois Grocery Initiative - Equipment Upgrade | E3: Fiscal Year: | F3: 2025
A4: S E C T I O N A -- STATE OF ILLINOIS FUNDS | E4: Grant #
A5: Revenues | E5: TOTAL REVENUE
A6: (a). State of Illinois Grant Amount Requested
A7: BUDGET SUMMARY STATE OF ILLINOIS FUNDS
A8: Budget Expenditure Categories | E8: TOTAL EXPENDITURES
A9: 1. Design/Engineering (usually limited to 10% - 15% of total State Grant funds in this budget) | E9: =+DesignEngineering!C140 -> 0
A10: 2. Building/Land Purchase | E10: =+'B-L Purchase'!C135 -> 0
A11: 3. Wiring/Electrical | E11: =+WiringElectrical!D134 -> 0
A12: 4. Equipment/Materials/Labor | E12: =+EML!D135 -> 0
A13: 5. Paving/Concrete/Masonry | E13: =+Paving!D134 -> 0
A14: 6. Construction Management/Oversight (limited to 10% - 15% of total State Grant funds in this budget) | E14: =+ConstructionMgmt!C135 -> 0
A15: 7. Mechanical System | E15: =+Mechanical!D135 -> 0
A16: 8. Excavation/Site Prep/Demo | E16: =+Excavation!C135 -> 0
A17: 9. Plumbing | E17: =+Plumbing!D134 -> 0
A18: 10. Other Construction Expenses | E18: =+OtherConstruct!C135 -> 0
A19: 11. Contingency (limited to maximum 10% of total State Grant funds in this budget) | E19: =+Contingency!C135 -> 0
A20: ='12A'!$A$2&'12A'!$B$2 -> 12A.GRANT EXCLUSIVE LINE ITEM | E20: =+'12A'!F$135 -> 26039205
A21: ='12B'!$A$2&'12B'!$B$2 -> 12B.GRANT EXCLUSIVE LINE ITEM | E21: =+'12B'!F$135 -> 35194439
A22: ='12C'!$A$2&'12C'!$B$2 -> 12C.GRANT EXCLUSIVE LINE ITEM | E22: =+'12C'!F$135 -> 57172172
A23: ='12D'!$A$2&'12D'!$B$2 -> 12D.GRANT EXCLUSIVE LINE ITEM | E23: =+'12D'!F$135 -> 69736965
A24: ='12E'!$A$2&'12E'!$B$2 -> 12E.GRANT EXCLUSIVE LINE ITEM | E24: =+'12E'!F$135 -> 47711390
A25: ='12F'!$A$2&'12F'!$B$2 -> 12F.GRANT EXCLUSIVE LINE ITEM | E25: =+'12F'!F$135 -> 62385897
A26: ='12G'!$A$2&'12G'!$B$2 -> 12G.GRANT EXCLUSIVE LINE ITEM | E26: =+'12G'!F$135 -> 33745429
A27: ='12H'!$A$2&'12H'!$B$2 -> 12H.GRANT EXCLUSIVE LINE ITEM | E27: =+'12H'!F$135 -> 38393266
A28: ='12I'!$A$2&'12I'!$B$2 -> 12I.GRANT EXCLUSIVE LINE ITEM | E28: =+'12I'!F$135 -> 70550494
A29: ='12J'!$A$2&'12J'!$B$2 -> 12J.GRANT EXCLUSIVE LINE ITEM | E29: =+'12J'!F$135 -> 30677439
A30: ='12K'!$A$2&'12K'!$B$2 -> 12K.GRANT EXCLUSIVE LINE ITEM | E30: =+'12K'!F$135 -> 40194411
A31: 12. Total Costs State Grant Funds | E31: =SUBTOTAL(109,E9:E30) -> 0

Sheet ICI
B1: Organization Name: | F1: =+'Section A'!B2 -> Cornucopia-Galesburg Inc | M1: NOFO # | O1: =+'Section A'!F2 -> 3295-2956
B2: SECTION - A (continued) Indirect Cost Rate Information
C3: If your organization is requesting reimbursement for indirect costs on line 17 of the Budget Summary, please select one of the following options.
B5: 1) | E5: Our Organization receives direct Federal funding and currently has a Negotiated Indirect Cost Rate Agreement (NICRA) with our Federal Cognizant Agency. A copy of this agreement will be provided to the State of Illinois’ Indirect Cost Unit for review and documentation before reimbursement is allowed. This NICRA will be accepted by all State of Illinois Agencies up to any statutory, rule-based or programmatic restrictions or limitations. | T5: To select an option - highlight the box and drop down the shape fill box on the drawing tools ribbon. you can either select a fill color or you can fill with texture, choose more textures and pick a checkmark from clipart.
E6: NOTE: (If this option is selected, please provide basic Negotiated Indirect Cost Rate Agreement information in area designated below)
B8: Your Organization may not have a Federally Negotiated Indirect Cost Rate Agreement. Therefore, in order for your Organization to be reimbursed for Indirect Costs from the State of Illinois, your Organization must either: | T8: Complete the Negotiated Indirect Cost Rate Agreement information below if Option (1) or (2a) is selected
C9: A. | D9: Negotiate an Indirect Cost Rate with the State of Illinois’ Indirect Cost Unit with guidance from your State Cognizant Agency on an annual basis.
C10: B. | D10: Elect to use the de minimis rate of 15% modified total direct cost (MTDC) which may be used indefinitely on State of Illinois Awards.
C11: C. | D11: Use a Restricted Rate designated by programmatic or statutory policy. (See Notice of Funding Opportunity for Restricted Rate Programs)
B13: 2a) | E13: Our Organization currently has a Negotiated Indirect Cost Rate Agreement with the State of Illinois that will be accepted by all State of Illinois Agencies up to any statutory, rule-based or programmatic restrictions or limitations. Our Organization is required to submit a new Indirect Cost Rate Proposal to the Indirect Cost Unit within six (6) months after the close of each fiscal year (2 CFR 200 Appendix IV (C)(2)(c).
E14: NOTE: (If this option is selected, please provide basic Indirect Cost Rate information in area designated below)
B15: 2b) | E15: Our Organization currently does not have a Negotiated Indirect Cost Rate Agreement with the State of Illinois. Our Organization will submit our initial Indirect Cost Rate Proposal (ICRP) immediately after our Organization is advised that the State award will be made and, in no event, later than three (3) months after the effective date of the State award (2 CFR 200 Appendix IV (C)(2)(b). The initial ICRP will be sent to the State of Illinois’ Indirect Cost Unit.
E16: NOTE: (Check with your State of Illinois Agency for information regarding reimbursement of indirect costs while your proposal is being negotiated)
B18: 3) | E18: Our Organization has never received a Negotiated Indirect Cost Rate Agreement from either the Federal government or the State of Illinois and elects to charge the de minimis rate of 15% modified total direct cost (MTDC) which may be used indefinitely on State of Illinois awards (2 CFR 200.414 (c)(4)(f) & (200.68).
E19: NOTE: (Your Organization must be eligible, see 2 CFR 200.414 (f), and submit documentation on the calculation of MTDC within your Budget Narrative under Indirect Costs)
B21: 4) | E21: For Restricted Rate Programs (check one) -- Our Organization is using a restricted indirect cost rate that:
E22: _____ | F22: Is included as a “Special Indirect Cost Rate” in our NICRA (2 CFR 200Appendix IV (5) Or;
E23: _____ | F23: Complies with other statutory policies (please specify):
E24: The Restricted Indirect Cost Rate is _________%
B26: 5) | C26: X | E26: No reimbursement of Indirect Cost is being requested. (Please consult your program office regarding possible match requirements)
B29: Basic Negotiated Indirect Cost Rate Agreement information if Option (1) or (2a) is selected | G29: Period Covered by the NICRA: From: | K29: To: | O29: (mm/dd/yyyy)
G30: Approving Federal/State agency (please specify):
G31: The Indirect Cost Rate is: | I31: % | J31: The Distribution Base is:

Sheet Section B
A1: =+'Section A'!A1 -> STATE OF ILLINOIS | B1: =+'Section A'!B1 -> UNIFORM GRANT BUDGET TEMPLATE | C1: =+'Section A'!E1 -> Commerce & Economic Opportunity | D1: content in rows 1 to 3 & cell C4 come from Section A
A2: ="Organization Name: "&'Section A'!B2 -> Organization Name: Cornucopia-Galesburg Inc | B2: ="NOFO # "&'Section A'!F2 -> NOFO # 3295-2956 | C2: ="Fiscal Year "&'Section A'!F3 -> Fiscal Year 2025
A3: S E C T I O N B -- NON STATE OF ILLINOIS FUNDS | C3: ="Grant Number: "&'Section A'!F4 -> Grant Number:
A4: Revenues | C4: TOTAL REVENUE
A5: Grantee Match Requirement =
A6: (a). -Cash
A7: (b). -Non-cash | C7: 0
A8: (c). Other Funding & Contributions | C8: 0
A9: NON-STATE Funds Total | C9: =(C6+C7+C8) -> 0
A10: BUDGET SUMMARY NON-STATE OF ILLINOIS FUNDS | D10: you should not need to type anything in below this row
A11: Budget Expenditure Categories | C11: TOTAL EXPENDITURES
A12: 1. Design/Engineering | C12: =+DesignEngineering!C272 -> 0
A13: 2. Building/Land Purchase | C13: =+'B-L Purchase'!C267 -> 0
A14: 3. Wiring/Electrical | C14: =+WiringElectrical!D266 -> 0
A15: 4. Equipment/Materials/Labor | C15: =+EML!D267 -> 0
A16: 5. Paving/Concrete/Masonry | C16: =+Paving!D266 -> 0
A17: 6. Construction Management/Oversight | C17: =+ConstructionMgmt!C267 -> 0
A18: 7. Mechanical System | C18: =+Mechanical!D267 -> 0
A19: 8. Excavation/Site Prep/Demo | C19: =+Excavation!C267 -> 0
A20: 9. Plumbing | C20: =+Plumbing!D266 -> 0
A21: 10. Other Construction Expenses | C21: =+OtherConstruct!C267 -> 0
A22: 11. Contingency | C22: =+Contingency!C267 -> 0
A23: ='Section A'!A20 -> 12A.GRANT EXCLUSIVE LINE ITEM | C23: =+'12A'!F$267 -> 27633627
A24: ='Section A'!A21 -> 12B.GRANT EXCLUSIVE LINE ITEM | C24: =+'12B'!F$267 -> 58255056
A25: ='Section A'!A22 -> 12C.GRANT EXCLUSIVE LINE ITEM | C25: =+'12C'!F$267 -> 40764789
A26: ='Section A'!A23 -> 12D.GRANT EXCLUSIVE LINE ITEM | C26: =+'12D'!F$267 -> 40725601
A27: ='Section A'!A24 -> 12E.GRANT EXCLUSIVE LINE ITEM | C27: =+'12E'!F$267 -> 36880344
A28: ='Section A'!A25 -> 12F.GRANT EXCLUSIVE LINE ITEM | C28: =+'12F'!F$267 -> 51933785
A29: ='Section A'!A26 -> 12G.GRANT EXCLUSIVE LINE ITEM | C29: =+'12G'!F$267 -> 44533700
A30: ='Section A'!A27 -> 12H.GRANT EXCLUSIVE LINE ITEM | C30: =+'12H'!F$267 -> 48908595
A31: ='Section A'!A28 -> 12I.GRANT EXCLUSIVE LINE ITEM | C31: =+'12I'!F$267 -> 61143490
A32: ='Section A'!A29 -> 12J.GRANT EXCLUSIVE LINE ITEM | C32: =+'12J'!F$267 -> 70829492
A33: ='Section A'!A30 -> 12K.GRANT EXCLUSIVE LINE ITEM | C33: =+'12K'!F$267 -> 61263637
A34: 12. Total Costs NON-State Funds | C34: =SUBTOTAL(109,C12:C33) -> 0

Sheet Certification 
A1: CERTIFICATION | D1: STATE OF ILLINOIS UNIFORM GRANT BUDGET TEMPLATE | G1: ="AGENCY: "&'Section B'!C1 -> AGENCY: Commerce & Economic Opportunity
A2: ="Organization Name: "&'Section A'!B2 -> Organization Name: Cornucopia-Galesburg Inc | D2: ="CSFA Description: "&'Section A'!D3 -> CSFA Description: Illinois Grocery Initiative - Equipment Upgrade | G2: ="NOFO # "&'Section A'!F2 -> NOFO # 3295-2956
A3: ="CSFA #: "&'Section A'!B3 -> CSFA #: 420-35-3295 | D3: ="DUNS # "&'Section A'!D2 -> DUNS # U4V5JALKHMX7 | G3: ="Fiscal Year(s): "&'Section A'!F3 -> Fiscal Year(s): 2025
A5: (2 CFR 200.415)
A6: “By signing this report, I certify to the best of my knowledge and belief that the report is true, complete, and accurate and that any false, fictitious, or fraudulent information or the omission of any material fact, could result in the immediate termination of my grant award(s).
A10: Cornucopia-Galesburg Inc
A11: Institution/Organization | E11: Institution/Organization
A13: #VALUE!
A14: Signature | E14: Signature
A16: Hannah Lyon
A17: Name of Official | E17: Name of Official
A19: co-owner
A20: Title | E20: Title
A21: Chief Financial Officer (or equivalent) | E21: Executive Director (or equivalent)
A22: 45747
A23: Date of Execution | E23: Date of Execution
A25: Note: The State awarding agency may change required signers based on the grantee’s organizational structure. The required signers must have the authority to enter into contractual agreements on behalf of the organization.

Sheet DesignEngineering
A1: Section C - Budget Worksheet & Narrative | C1: =+'Section A'!B2 -> Cornucopia-Galesburg Inc | D1: Filter
A2: 1). Design/Engineering -- Costs associated with planning, design, and construction observation or related services for the proposed project including environmental services, testing, surveys, etc. Costs associated with creation of the project's architectural drawings, engineering studies and/or fees, etc., including costs of plans & specs and/or printing costs if specifically identified as such within the project description. Copies of contracts will be required. * The State portion of this category is usually limited to 10% - 15% of the total State-funded portion in this overall budget. | D2: keep
D3: keep
D4: keep
A5: Purpose | B5: Description of Work | C5: Item Cost | D5: keep | F5: Length of time=# of units of Basis
C6: 0 | D6: state
C7: 0 | D7: state
C8: 0 | D8: state
C9: 0 | D9: state
C10: 0 | D10: state
C11: 0 | D11: state
C12: 0 | D12: state
C13: 0 | D13: state
C14: 0 | D14: state
C15: 0 | D15: state
C16: 0 | D16: state
C17: 0 | D17: state
... C139: 0 | D139: state
B140: State Total | C140: =ROUND(SUBTOTAL(109,C6:C139),2) -> 0 | D140: state | F140: If you need additional rows, there are rows you may unhide
D141: non-state
C142: 0 | D142: non-state
C143: 0 | D143: non-state
C144: 0 | D144: non-state
C145: 0 | D145: non-state
C146: 0 | D146: non-state
C147: 0 | D147: non-state
C148: 0 | D148: non-state
C149: 0 | D149: non-state
C150: 0 | D150: non-state
C151: 0 | D151: non-state
C152: 0 | D152: non-state
C153: 0 | D153: non-state
... C271: 0 | D271: non-state
B272: NON-State Total | C272: =ROUND(SUBTOTAL(109,C141:C271),2) -> 0 | D272: non-state | F272: If you need additional rows, there are rows you may unhide
D273: keep
B274: Design/Engineering Total | C274: =+C272+C140 -> 0 | D274: keep | F274: This rows adds State & Non-State Totals
D275: keep
A276: Narrative (State): | D276: state | F276: Give a brief description of items that you are claiming
D277: state | F277: To add information on a new line, hold the Alt key and hit Enter. To change the row height, right click on the row number off to the left of the spreadsheet, then click on Row Height
D278: non-state
...

Sheet B-L Purchase
A1: Section C - Budget Worksheet & Narrative | C1: =+'Section A'!B2 -> Cornucopia-Galesburg Inc | D1: Filter
A2: 2). Building/Land Purchase -- Costs to purchase, either in whole or in part a building, structural shell, condominium, land, and/or easement including, but not limited to: the net purchase price itself, closing costs charged to the buyer on the closing document, legal fees, etc. Additionally, costs associated with Right-of-Way, appraisals, property/boundary surveys, legal fees, etc. | D2: keep
D3: keep
A4: Purpose | B4: Description of Work | C4: Item Cost | D4: keep
C5: 0 | D5: state
C6: 0 | D6: state
C7: 0 | D7: state
C8: 0 | D8: state
C9: 0 | D9: state
C10: 0 | D10: state
C11: 0 | D11: state
C12: 0 | D12: state
C13: 0 | D13: state
C14: 0 | D14: state
C15: 0 | D15: state
C16: 0 | D16: state
... C134: 0 | D134: state
B135: State Total | C135: =ROUND(SUBTOTAL(109,C5:C134),2) -> 0 | D135: state | F135: If you need additional rows, there are rows you may unhide
D136: non-state
C137: 0 | D137: non-state
C138: 0 | D138: non-state
C139: 0 | D139: non-state
C140: 0 | D140: non-state
C141: 0 | D141: non-state
C142: 0 | D142: non-state
C143: 0 | D143: non-state
C144: 0 | D144: non-state
C145: 0 | D145: non-state
C146: 0 | D146: non-state
C147: 0 | D147: non-state
C148: 0 | D148: non-state
... C266: 0 | D266: non-state
B267: NON-State Total | C267: =ROUND(SUBTOTAL(109,C136:C266),2) -> 0 | D267: non-state | F267: If you need additional rows, there are rows you may unhide
D268: keep
B269: Total | C269: =+C267+C135 -> 0 | D269: keep | F269: This rows adds State & Non-State Totals
D270: keep
A271: Narrative (State): | D271: state | F271: Give a brief description of items that you are claiming
D272: state | F272: To add information on a new line, hold the Alt key and hit Enter. To change the row height, right click on the row number off to the left of the spreadsheet, then click on Row Height
D273: non-state
A274: Narrative (Non-State) i.e. "Match" or "Other Funding" | D274: non-state | F274: Give a brief description of items that you are claiming
...

Sheet WiringElectrical
A1: Section C - Budget Worksheet & Narrative | D1: =+'Section A'!B2 -> Cornucopia-Galesburg Inc | E1: Filter
A2: 3). Wiring/Electrical (2 CFR 200.94)-- Purchase of materials necessary for completion of the project scope such as electrical wiring, conduit, outlets, switches, etc. including associated labor/installation costs, as identified within the project description. | E2: keep
A3: Item | B3: Quantity/ Duration | C3: Cost per Item | D3: Item Cost | E3: keep
D4: =ROUND(B4*C4,2) -> 0 | E4: state
D5: =ROUND(B5*C5,2) -> 0 | E5: state
D6: =ROUND(B6*C6,2) -> 0 | E6: state
D7: =ROUND(B7*C7,2) -> 0 | E7: state
D8: =ROUND(B8*C8,2) -> 0 | E8: state
D9: =ROUND(B9*C9,2) -> 0 | E9: state
D10: =ROUND(B10*C10,2) -> 0 | E10: state
D11: =ROUND(B11*C11,2) -> 0 | E11: state
D12: =ROUND(B12*C12,2) -> 0 | E12: state
D13: =ROUND(B13*C13,2) -> 0 | E13: state
D14: =ROUND(B14*C14,2) -> 0 | E14: state
D15: =ROUND(B15*C15,2) -> 0 | E15: state
... D133: =ROUND(B133*C133,2) -> 0 | E133: state
C134: State Total | D134: =ROUND(SUBTOTAL(109,D4:D133),2) -> 0 | E134: state | G134: If you need to additional rows, there are rows you may unhide
E135: non-state
D136: =ROUND(B136*C136,2) -> 0 | E136: non-state
D137: =ROUND(B137*C137,2) -> 0 | E137: non-state
D138: =ROUND(B138*C138,2) -> 0 | E138: non-state
D139: =ROUND(B139*C139,2) -> 0 | E139: non-state
D140: =ROUND(B140*C140,2) -> 0 | E140: non-state
D141: =ROUND(B141*C141,2) -> 0 | E141: non-state
D142: =ROUND(B142*C142,2) -> 0 | E142: non-state
D143: =ROUND(B143*C143,2) -> 0 | E143: non-state
D144: =ROUND(B144*C144,2) -> 0 | E144: non-state
D145: =ROUND(B145*C145,2) -> 0 | E145: non-state
D146: =ROUND(B146*C146,2) -> 0 | E146: non-state
D147: =ROUND(B147*C147,2) -> 0 | E147: non-state
... D265: =ROUND(B265*C265,2) -> 0 | E265: non-state
C266: NON-State Total | D266: =ROUND(SUBTOTAL(109,D135:D265),2) -> 0 | E266: non-state | G266: If you need to additional rows, there are rows you may unhide
E267: keep
B268: Total | D268: =+D134+D266 -> 0 | E268: keep | G268: This rows adds State & Non-State Totals
E269: keep
A270: Narrative (State): | E270: state | G270: Give a brief description of items that you are claiming
A271: We have a relationahip with a union shop (AMP Companies) which has provided free design services and will act as the contractor for the installation of new items. They provide both electrical and refrigeration services and materials. | E271: state | G271: To add information on a new line, hold the Alt key and hit Enter. To change the row height, right click on the row number off to the left of the spreadsheet, then click on Row Height
E272: non-state
A273: Narrative (Non-State) i.e. "Match" or "Other Funding" | E273: non-state | G273: Give a brief description of items that you are claiming
E274: non-state | G274: To add information on a new line, hold the Alt key and hit Enter. To change the row height, right click on the row number off to the left of the spreadsheet, then click on Row Height

Sheet EML
A1: Section C - Budget Worksheet & Narrative | D1: =+'Section A'!B2 -> Cornucopia-Galesburg Inc | E1: Filter
A2: 4). Equipment/Materials/Labor (2 CFR 200.474)-- Purchase of materials and/or purchase/lease of equipment, to use or install for the project, such as: steel, drywall, lumber, wiring, doors, windows, roofing, rock, etc. including labor/installation costs, as identified - within the project description | E2: keep
E3: keep
A4: Item | B4: Quantity | C4: Cost Rate | D4: Item Cost | E4: keep
D5: =ROUND(+B5*C5,2) -> 0 | E5: state
D6: =ROUND(+B6*C6,2) -> 0 | E6: state
D7: =ROUND(+B7*C7,2) -> 0 | E7: state
D8: =ROUND(+B8*C8,2) -> 0 | E8: state
D9: =ROUND(+B9*C9,2) -> 0 | E9: state
D10: =ROUND(+B10*C10,2) -> 0 | E10: state
D11: =ROUND(+B11*C11,2) -> 0 | E11: state
D12: =ROUND(+B12*C12,2) -> 0 | E12: state
D13: =ROUND(+B13*C13,2) -> 0 | E13: state
D14: =ROUND(+B14*C14,2) -> 0 | E14: state
D15: =ROUND(+B15*C15,2) -> 0 | E15: state
D16: =ROUND(+B16*C16,2) -> 0 | E16: state
... D134: =ROUND(+B134*C134,2) -> 0 | E134: state
C135: State Total | D135: =ROUND(SUBTOTAL(109,D5:D134),2) -> 0 | E135: state | G135: If you need additional rows, there are rows you may unhide
E136: non-state
D137: =ROUND(+B137*C137,2) -> 0 | E137: non-state
D138: =ROUND(+B138*C138,2) -> 0 | E138: non-state
D139: =ROUND(+B139*C139,2) -> 0 | E139: non-state
D140: =ROUND(+B140*C140,2) -> 0 | E140: non-state
D141: =ROUND(+B141*C141,2) -> 0 | E141: non-state
D142: =ROUND(+B142*C142,2) -> 0 | E142: non-state
D143: =ROUND(+B143*C143,2) -> 0 | E143: non-state
D144: =ROUND(+B144*C144,2) -> 0 | E144: non-state
D145: =ROUND(+B145*C145,2) -> 0 | E145: non-state
D146: =ROUND(+B146*C146,2) -> 0 | E146: non-state
D147: =ROUND(+B147*C147,2) -> 0 | E147: non-state
D148: =ROUND(+B148*C148,2) -> 0 | E148: non-state
... D266: =ROUND(+B266*C266,2) -> 0 | E266: non-state
C267: NON-State Total | D267: =ROUND(SUBTOTAL(109,D136:D266),2) -> 0 | E267: non-state | G267: If you need additional rows, there are rows you may unhide
E268: keep
C269: Total | D269: =+D267+D135 -> 0 | E269: keep | G269: This rows adds State & Non-State Totals
E270: keep
A271: Narrative (State): | E271: state | G271: Give a brief description of items that you are claiming
A272: We propose to purchase new energy efficient equipment to replace our faulty outdated equipment. Proposed is a four door freezer, curved glass deli case, self-serve island case, and single door refrigerated case. | E272: state | G272: To add information on a new line, hold the Alt key and hit Enter. To change the row height, right click on the row number off to the left of the spreadsheet, then click on Row Height
E273: non-state
A274: Narrative (Non-State) i.e. "Match" or "Other Funding" | E274: non-state | G274: Give a brief description of items that you are claiming
...

Sheet Paving
A1: Section C - Budget Worksheet & Narrative | D1: =+'Section A'!B2 -> Cornucopia-Galesburg Inc | E1: row type
A2: 5). Paving/Concrete/Masonry (2 CFR 200.459)-- Purchase of materials necessary for completion of the project scope such as bituminous pavement, concrete, rock, bricks, blocks, mortar, tuckpointing, etc. including associated labor/installation costs, as identified within the project description. | E2: keep
A3: Item | B3: Quantity | C3: Cost per Item | D3: Item Cost | E3: keep
D4: =ROUND(+B4*C4,2) -> 0 | E4: state
D5: =ROUND(+B5*C5,2) -> 0 | E5: state
D6: =ROUND(+B6*C6,2) -> 0 | E6: state
D7: =ROUND(+B7*C7,2) -> 0 | E7: state
D8: =ROUND(+B8*C8,2) -> 0 | E8: state
D9: =ROUND(+B9*C9,2) -> 0 | E9: state
D10: =ROUND(+B10*C10,2) -> 0 | E10: state
D11: =ROUND(+B11*C11,2) -> 0 | E11: state
D12: =ROUND(+B12*C12,2) -> 0 | E12: state
D13: =ROUND(+B13*C13,2) -> 0 | E13: state
D14: =ROUND(+B14*C14,2) -> 0 | E14: state
D15: =ROUND(+B15*C15,2) -> 0 | E15: state
... D133: =ROUND(+B133*C133,2) -> 0 | E133: state
C134: State Total | D134: =ROUND(SUBTOTAL(109,D4:D133),2) -> 0 | E134: state | G134: If you need to additional rows, there are rows you may unhide
E135: non-state
D136: =ROUND(+B136*C136,2) -> 0 | E136: non-state
D137: =ROUND(+B137*C137,2) -> 0 | E137: non-state
D138: =ROUND(+B138*C138,2) -> 0 | E138: non-state
D139: =ROUND(+B139*C139,2) -> 0 | E139: non-state
D140: =ROUND(+B140*C140,2) -> 0 | E140: non-state
D141: =ROUND(+B141*C141,2) -> 0 | E141: non-state
D142: =ROUND(+B142*C142,2) -> 0 | E142: non-state
D143: =ROUND(+B143*C143,2) -> 0 | E143: non-state
D144: =ROUND(+B144*C144,2) -> 0 | E144: non-state
D145: =ROUND(+B145*C145,2) -> 0 | E145: non-state
D146: =ROUND(+B146*C146,2) -> 0 | E146: non-state
D147: =ROUND(+B147*C147,2) -> 0 | E147: non-state
... D265: =ROUND(+B265*C265,2) -> 0 | E265: non-state
C266: NON-State Total | D266: =ROUND(SUBTOTAL(109,D135:D265),2) -> 0 | E266: non-state | G266: If you need to additional rows, there are rows you may unhide
E267: keep
C268: Total | D268: =+D266+D134 -> 0 | E268: keep
E269: keep
A270: Narrative (State): | E270: state | G270: Give a brief description of items that you are claiming
E271: state | G271: To add information on a new line, hold the Alt key and hit Enter. To change the row height, right click on the row number off to the left of the spreadsheet, then click on Row Height
E272: non-state
A273: Narrative (Non-State) i.e. "Match" or "Other Funding" | E273: non-state | G273: Give a brief description of items that you are claiming
E274: non-state | G274: To add information on a new line, hold the Alt key and hit Enter. To change the row height, right click on the row number off to the left of the spreadsheet, then click on Row Height

Sheet ConstructionMgmt
A1: Section C - Budget Worksheet & Narrative | C1: =+'Section A'!B2 -> Cornucopia-Galesburg Inc | D1: row type
A2: 6). Construction Management/Oversight -- Costs associated with managing the construction activities and/or overseeing all aspects of the construction project, either by contractor personnel or grantee personnel, but limited to verifiable time working on this project. * The State portion of this category is usually limited to 10% - 15% of the total State-funded portion in this overall budget. | D2: keep
D3: keep
A4: Purpose | B4: Description of Work | C4: Item Cost | D4: keep | F4: Length of time=# of units of Basis
C5: 0 | D5: state
C6: 0 | D6: state
C7: 0 | D7: state
C8: 0 | D8: state
C9: 0 | D9: state
C10: 0 | D10: state
C11: 0 | D11: state
C12: 0 | D12: state
C13: 0 | D13: state
C14: 0 | D14: state
C15: 0 | D15: state
C16: 0 | D16: state
... C134: 0 | D134: state
B135: State Total | C135: =ROUND(SUBTOTAL(109,C5:C134),2) -> 0 | D135: state | F135: If you need to additional rows, there are rows you may unhide
D136: non-state
C137: 0 | D137: non-state
C138: 0 | D138: non-state
C139: 0 | D139: non-state
C140: 0 | D140: non-state
C141: 0 | D141: non-state
C142: 0 | D142: non-state
C143: 0 | D143: non-state
C144: 0 | D144: non-state
C145: 0 | D145: non-state
C146: 0 | D146: non-state
C147: 0 | D147: non-state
C148: 0 | D148: non-state
... C266: 0 | D266: non-state
B267: NON-State Total | C267: =ROUND(SUBTOTAL(109,C136:C266),2) -> 0 | D267: non-state | F267: If you need to additional rows, there are rows you may unhide
D268: keep
B269: Total | C269: =+C267+C135 -> 0 | D269: keep | F269: This rows adds State & Non-State Totals
D270: keep
A271: Narrative (State): | D271: state | F271: Give a brief description of items that you are claiming
D272: state | F272: To add information on a new line, hold the Alt key and hit Enter. To change the row height, right click on the row number off to the left of the spreadsheet, then click on Row Height
D273: non-state
A274: Narrative (Non-State) i.e. "Match" or "Other Funding" | D274: non-state | F274: Give a brief description of items that you are claiming
...

Sheet Mechanical
A1: Section C - Budget Worksheet & Narrative | D1: =+'Section A'!B2 -> Cornucopia-Galesburg Inc | E1: Filter
A2: 7). Mechanical System -- Purchase of materials necessary for completion of the project scope such as HVAC, elevators, fire alarm, sprinkler, or ventilation system, etc. including associated labor/installation costs, as identified within the project description. | E2: keep
E3: keep
A4: Item | B4: Quantity/ Duration | C4: Cost per Item | D4: Item Cost | E4: keep
D5: =ROUND(B5*C5,2) -> 0 | E5: state
D6: =ROUND(B6*C6,2) -> 0 | E6: state
D7: =ROUND(B7*C7,2) -> 0 | E7: state
D8: =ROUND(B8*C8,2) -> 0 | E8: state
D9: =ROUND(B9*C9,2) -> 0 | E9: state
D10: =ROUND(B10*C10,2) -> 0 | E10: state
D11: =ROUND(B11*C11,2) -> 0 | E11: state
D12: =ROUND(B12*C12,2) -> 0 | E12: state
D13: =ROUND(B13*C13,2) -> 0 | E13: state
D14: =ROUND(B14*C14,2) -> 0 | E14: state
D15: =ROUND(B15*C15,2) -> 0 | E15: state
D16: =ROUND(B16*C16,2) -> 0 | E16: state
... D134: =ROUND(B134*C134,2) -> 0 | E134: state
C135: State Total | D135: =ROUND(SUBTOTAL(109,D5:D134),2) -> 0 | E135: state | G135: If you need to additional rows, there are rows you may unhide
E136: non-state
D137: =ROUND(B137*C137,2) -> 0 | E137: non-state
D138: =ROUND(B138*C138,2) -> 0 | E138: non-state
D139: =ROUND(B139*C139,2) -> 0 | E139: non-state
D140: =ROUND(B140*C140,2) -> 0 | E140: non-state
D141: =ROUND(B141*C141,2) -> 0 | E141: non-state
D142: =ROUND(B142*C142,2) -> 0 | E142: non-state
D143: =ROUND(B143*C143,2) -> 0 | E143: non-state
D144: =ROUND(B144*C144,2) -> 0 | E144: non-state
D145: =ROUND(B145*C145,2) -> 0 | E145: non-state
D146: =ROUND(B146*C146,2) -> 0 | E146: non-state
D147: =ROUND(B147*C147,2) -> 0 | E147: non-state
D148: =ROUND(B148*C148,2) -> 0 | E148: non-state
... D266: =ROUND(B266*C266,2) -> 0 | E266: non-state
C267: NON-State Total | D267: =ROUND(SUBTOTAL(109,D136:D266),2) -> 0 | E267: non-state | G267: If you need to additional rows, there are rows you may unhide
E268: keep
C269: Total | D269: =+D135+D267 -> 0 | E269: keep | G269: This rows adds State & Non-State Totals
E270: keep
A271: Narrative (State): | E271: state | G271: Give a brief description of items that you are claiming
E272: state | G272: To add information on a new line, hold the Alt key and hit Enter. To change the row height, right click on the row number off to the left of the spreadsheet, then click on Row Height
E273: non-state
A274: Narrative (Non-State) i.e. "Match" or "Other Funding" | E274: non-state | G274: Give a brief description of items that you are claiming
...

Sheet Excavation
A1: Section C - Budget Worksheet & Narrative | C1: =+'Section A'!B2 -> Cornucopia-Galesburg Inc | D1: row type
A2: 8). Excavation/Site Prep/Demo -- Costs associated with demolition of existing structures on the project site and/or preparation of the project site including excavation, etc. ahead of actual new construction/renovation activities. | D2: keep
D3: keep
A4: Purpose | B4: Description of Work | C4: Item Cost | D4: keep | F4: Length of time=# of units of Basis
C5: 0 | D5: state
C6: 0 | D6: state
C7: 0 | D7: state
C8: 0 | D8: state
C9: 0 | D9: state
C10: 0 | D10: state
C11: 0 | D11: state
C12: 0 | D12: state
C13: 0 | D13: state
C14: 0 | D14: state
C15: 0 | D15: state
C16: 0 | D16: state
... C134: 0 | D134: state
B135: State Total | C135: =ROUND(SUBTOTAL(109,C5:C134),2) -> 0 | D135: state | F135: If you need to additional rows, there are rows you may unhide
D136: non-state
C137: 0 | D137: non-state
C138: 0 | D138: non-state
C139: 0 | D139: non-state
C140: 0 | D140: non-state
C141: 0 | D141: non-state
C142: 0 | D142: non-state
C143: 0 | D143: non-state
C144: 0 | D144: non-state
C145: 0 | D145: non-state
C146: 0 | D146: non-state
C147: 0 | D147: non-state
C148: 0 | D148: non-state
... C266: 0 | D266: non-state
B267: NON-State Total | C267: =ROUND(SUBTOTAL(109,C136:C266),2) -> 0 | D267: non-state | F267: If you need to additional rows, there are rows you may unhide
D268: keep
B269: Total | C269: =+C267+C135 -> 0 | D269: keep | F269: This rows adds State & Non-State Totals
D270: keep
A271: Narrative (State): | D271: state | F271: Give a brief description of items that you are claiming
D272: state | F272: To add information on a new line, hold the Alt key and hit Enter. To change the row height, right click on the row number off to the left of the spreadsheet, then click on Row Height
D273: non-state
A274: Narrative (Non-State) i.e. "Match" or "Other Funding" | D274: non-state | F274: Give a brief description of items that you are claiming
...

Sheet Plumbing
A1: Section C - Budget Worksheet & Narrative | D1: =+'Section A'!B2 -> Cornucopia-Galesburg Inc | E1: row type
A2: 9). Plumbing-- Purchase of materials necessary for completion of the project scope such as internal or external pipes for water, gas, and/or sewage; fixtures; etc. including associated labor/installation costs, as identified within the project description. | E2: keep
A3: Item | B3: Quantity | C3: Cost per Item | D3: Item Cost | E3: keep
D4: =ROUND(+B4*C4,2) -> 0 | E4: state
D5: =ROUND(+B5*C5,2) -> 0 | E5: state
D6: =ROUND(+B6*C6,2) -> 0 | E6: state
D7: =ROUND(+B7*C7,2) -> 0 | E7: state
D8: =ROUND(+B8*C8,2) -> 0 | E8: state
D9: =ROUND(+B9*C9,2) -> 0 | E9: state
D10: =ROUND(+B10*C10,2) -> 0 | E10: state
D11: =ROUND(+B11*C11,2) -> 0 | E11: state
D12: =ROUND(+B12*C12,2) -> 0 | E12: state
D13: =ROUND(+B13*C13,2) -> 0 | E13: state
D14: =ROUND(+B14*C14,2) -> 0 | E14: state
D15: =ROUND(+B15*C15,2) -> 0 | E15: state
... D133: =ROUND(+B133*C133,2) -> 0 | E133: state
C134: State Total | D134: =ROUND(SUBTOTAL(109,D4:D133),2) -> 0 | E134: state | G134: If you need to additional rows, there are rows you may unhide
E135: non-state
D136: =ROUND(+B136*C136,2) -> 0 | E136: non-state
D137: =ROUND(+B137*C137,2) -> 0 | E137: non-state
D138: =ROUND(+B138*C138,2) -> 0 | E138: non-state
D139: =ROUND(+B139*C139,2) -> 0 | E139: non-state
D140: =ROUND(+B140*C140,2) -> 0 | E140: non-state
D141: =ROUND(+B141*C141,2) -> 0 | E141: non-state
D142: =ROUND(+B142*C142,2) -> 0 | E142: non-state
D143: =ROUND(+B143*C143,2) -> 0 | E143: non-state
D144: =ROUND(+B144*C144,2) -> 0 | E144: non-state
D145: =ROUND(+B145*C145,2) -> 0 | E145: non-state
D146: =ROUND(+B146*C146,2) -> 0 | E146: non-state
D147: =ROUND(+B147*C147,2) -> 0 | E147: non-state
... D265: =ROUND(+B265*C265,2) -> 0 | E265: non-state
C266: NON-State Total | D266: =ROUND(SUBTOTAL(109,D135:D265),2) -> 0 | E266: non-state | G266: If you need to additional rows, there are rows you may unhide
E267: keep
C268: Total | D268: =+D266+D134 -> 0 | E268: keep | G268: This rows adds State & Non-State Totals
E269: keep
A270: Narrative (State): | E270: state | G270: Give a brief description of items that you are claiming
E271: state | G271: To add information on a new line, hold the Alt key and hit Enter. To change the row height, right click on the row number off to the left of the spreadsheet, then click on Row Height
E272: non-state
A273: Narrative (Non-State) i.e. "Match" or "Other Funding" | E273: non-state | G273: Give a brief description of items that you are claiming
E274: non-state | G274: To add information on a new line, hold the Alt key and hit Enter. To change the row height, right click on the row number off to the left of the spreadsheet, then click on Row Height

Sheet OtherConstruct
A1: Section C - Budget Worksheet & Narrative | C1: =+'Section A'!B2 -> Cornucopia-Galesburg Inc | D1: row type
A2: 10). Other Construction Expenses -- Costs that cannot be easily broken out to or covered by individual/specific budgetary line items such landscaping, hauling, equipment, rental, insurance, environmental fees, loan payments, etc. as identified within the project description. | D2: keep
D3: keep
A4: Purpose | B4: Description of Work | C4: Item Cost | D4: keep
C5: 0 | D5: state
C6: 0 | D6: state
C7: 0 | D7: state
C8: 0 | D8: state
C9: 0 | D9: state
C10: 0 | D10: state
C11: 0 | D11: state
C12: 0 | D12: state
C13: 0 | D13: state
C14: 0 | D14: state
C15: 0 | D15: state
C16: 0 | D16: state
... C134: 0 | D134: state
B135: State Total | C135: =ROUND(SUBTOTAL(109,C5:C134),2) -> 0 | D135: state | F135: If you need to additional rows, there are rows you may unhide
D136: non-state
B137: d | C137: 0 | D137: non-state
B138: d | C138: 0 | D138: non-state
B139: d | C139: 0 | D139: non-state
C140: 0 | D140: non-state
C141: 0 | D141: non-state
C142: 0 | D142: non-state
C143: 0 | D143: non-state
C144: 0 | D144: non-state
C145: 0 | D145: non-state
C146: 0 | D146: non-state
C147: 0 | D147: non-state
C148: 0 | D148: non-state
C149: 0 | D149: non-state
C150: 0 | D150: non-state
C151: 0 | D151: non-state
... C265: 0 | D265: non-state
B266: d | C266: 0 | D266: non-state
B267: NON-State Total | C267: =ROUND(SUBTOTAL(109,C136:C266),2) -> 0 | D267: non-state | F267: If you need to additional rows, there are rows you may unhide
D268: keep
B269: Total | C269: =+C267+C135 -> 0 | D269: keep | F269: This rows adds State & Non-State Totals
D270: keep
...

Sheet Contingency
A1: Section C - Budget Worksheet & Narrative | C1: =+'Section A'!B2 -> Cornucopia-Galesburg Inc | D1: row type
A2: 11). Contingency - Coverage of potential cost overruns in any of the other utilized grant budget line items. * The State portion of this category is limited to a maximum 10% of the total State-funded portion in this overall budget. | D2: keep
D3: keep
A4: Purpose | B4: Description of Work | C4: Item Cost | D4: keep | F4: Length of time=# of units of Basis
C5: 0 | D5: state
C6: 0 | D6: state
C7: 0 | D7: state
C8: 0 | D8: state
C9: 0 | D9: state
C10: 0 | D10: state
C11: 0 | D11: state
C12: 0 | D12: state
C13: 0 | D13: state
C14: 0 | D14: state
C15: 0 | D15: state
C16: 0 | D16: state
... C134: 0 | D134: state
B135: State Total | C135: =ROUND(SUBTOTAL(109,C5:C134),2) -> 0 | D135: state | F135: If you need to additional rows, there are rows you may unhide
D136: non-state
C137: 0 | D137: non-state
C138: 0 | D138: non-state
C139: 0 | D139: non-state
C140: 0 | D140: non-state
C141: 0 | D141: non-state
C142: 0 | D142: non-state
C143: 0 | D143: non-state
C144: 0 | D144: non-state
C145: 0 | D145: non-state
C146: 0 | D146: non-state
C147: 0 | D147: non-state
C148: 0 | D148: non-state
... C266: 0 | D266: non-state
B267: NON-State Total | C267: =ROUND(SUBTOTAL(109,C136:C266),2) -> 0 | D267: non-state | F267: If you need to additional rows, there are rows you may unhide
D268: keep
B269: Total | C269: =+C267+C135 -> 0 | D269: keep | F269: This rows adds State & Non-State Totals
D270: keep
A271: Narrative (State): | D271: state | F271: Give a brief description of items that you are claiming
D272: state | F272: To add information on a new line, hold the Alt key and hit Enter. To change the row height, right click on the row number off to the left of the spreadsheet, then click on Row Height
D273: non-state
A274: Narrative (Non-State) i.e. "Match" or "Other Funding" | D274: non-state | F274: Give a brief description of items that you are claiming
...

Sheet 12A
A1: Section C - Budget Worksheet & Narrative | F1: =+'Section A'!B2 -> Cornucopia-Galesburg Inc | G1: Filter
A2: 12A. | B2: GRANT EXCLUSIVE LINE ITEM
A3: Line item determine to be by programmatic of federal reporting purposes. DCEO will be required to provide definition and instruction per each Grant Exclusive Line Item developed. | G3: keep
A4: Description | B4: Quantity | C4: Basis | D4: Cost | E4: Length of time | F4: Total Cost | G4: keep | I4: Length of time=# of units of Basis
A5: Description | B5: 3 | C5: month | D5: =RAND()*1000000 -> 36770.941 | E5: 7 | F5: =ROUND(+B5*D5*E5,2) -> 772189.76 | G5: state
A6: Description | B6: 3 | C6: month | D6: =RAND()*1000000 -> 341952.59 | E6: 7 | F6: =ROUND(+B6*D6*E6,2) -> 7181004.4 | G6: state
A7: Description | B7: 3 | C7: month | D7: =RAND()*1000000 -> 811450.52 | E7: 7 | F7: =ROUND(+B7*D7*E7,2) -> 17040461 | G7: state
F8: =ROUND(+B8*D8*E8,2) -> 0 | G8: state
F9: =ROUND(+B9*D9*E9,2) -> 0 | G9: state
F10: =ROUND(+B10*D10*E10,2) -> 0 | G10: state
F11: =ROUND(+B11*D11*E11,2) -> 0 | G11: state
F12: =ROUND(+B12*D12*E12,2) -> 0 | G12: state
F13: =ROUND(+B13*D13*E13,2) -> 0 | G13: state
F14: =ROUND(+B14*D14*E14,2) -> 0 | G14: state
F15: =ROUND(+B15*D15*E15,2) -> 0 | G15: state
F16: =ROUND(+B16*D16*E16,2) -> 0 | G16: state
F17: =ROUND(+B17*D17*E17,2) -> 0 | G17: state
F18: =ROUND(+B18*D18*E18,2) -> 0 | G18: state
F19: =ROUND(+B19*D19*E19,2) -> 0 | G19: state
... F133: =ROUND(+B133*D133*E133,2) -> 0 | G133: state
A134: Description | B134: 3 | C134: month | D134: =RAND()*1000000 -> 49788.118 | E134: 7 | F134: =ROUND(+B134*D134*E134,2) -> 1045550.5 | G134: state
E135: State Total | F135: =ROUND(SUBTOTAL(109,F5:F134),2) -> 26039205 | G135: state | I135: If you need additional rows, there are rows you can unhide
G136: non-state
A137: Description | B137: 3 | C137: month | D137: =RAND()*1000000 -> 560145.75 | E137: 7 | F137: =ROUND(+B137*D137*E137,2) -> 11763061 | G137: non-state
A138: Description | B138: 3 | C138: month | D138: =RAND()*1000000 -> 466441.68 | E138: 7 | F138: =ROUND(+B138*D138*E138,2) -> 9795275.3 | G138: non-state
A139: Description | B139: 3 | C139: month | D139: =RAND()*1000000 -> 14928.127 | E139: 7 | F139: =ROUND(+B139*D139*E139,2) -> 313490.67 | G139: non-state
F140: =ROUND(+B140*D140*E140,2) -> 0 | G140: non-state
F141: =ROUND(+B141*D141*E141,2) -> 0 | G141: non-state
F142: =ROUND(+B142*D142*E142,2) -> 0 | G142: non-state
F143: =ROUND(+B143*D143*E143,2) -> 0 | G143: non-state
F144: =ROUND(+B144*D144*E144,2) -> 0 | G144: non-state
F145: =ROUND(+B145*D145*E145,2) -> 0 | G145: non-state
F146: =ROUND(+B146*D146*E146,2) -> 0 | G146: non-state
F147: =ROUND(+B147*D147*E147,2) -> 0 | G147: non-state
F148: =ROUND(+B148*D148*E148,2) -> 0 | G148: non-state
F149: =ROUND(+B149*D149*E149,2) -> 0 | G149: non-state
F150: =ROUND(+B150*D150*E150,2) -> 0 | G150: non-state
F151: =ROUND(+B151*D151*E151,2) -> 0 | G151: non-state
... F265: =ROUND(+B265*D265*E265,2) -> 0 | G265: non-state
A266: Description | B266: 3 | C266: month | D266: =RAND()*1000000 -> 274371.45 | E266: 7 | F266: =ROUND(+B266*D266*E266,2) -> 5761800.5 | G266: non-state
...

Sheet 12B
A1: Section C - Budget Worksheet & Narrative | F1: =+'Section A'!B2 -> Cornucopia-Galesburg Inc | G1: Filter
A2: 12B. | B2: GRANT EXCLUSIVE LINE ITEM
A3: Line item determine to be by programmatic of federal reporting purposes. DCEO will be required to provide definition and instruction per each Grant Exclusive Line Item developed. | G3: keep
A4: Description | B4: Quantity | C4: Basis | D4: Cost | E4: Length of time | F4: Total Cost | G4: keep | I4: Length of time=# of units of Basis
A5: Description | B5: 3 | C5: month | D5: =RAND()*1000000 -> 456695.58 | E5: 7 | F5: =ROUND(+B5*D5*E5,2) -> 9590607.2 | G5: state
A6: Description | B6: 3 | C6: month | D6: =RAND()*1000000 -> 214108.3 | E6: 7 | F6: =ROUND(+B6*D6*E6,2) -> 4496274.4 | G6: state
A7: Description | B7: 3 | C7: month | D7: =RAND()*1000000 -> 415612.88 | E7: 7 | F7: =ROUND(+B7*D7*E7,2) -> 8727870.5 | G7: state
F8: =ROUND(+B8*D8*E8,2) -> 0 | G8: state
F9: =ROUND(+B9*D9*E9,2) -> 0 | G9: state
F10: =ROUND(+B10*D10*E10,2) -> 0 | G10: state
F11: =ROUND(+B11*D11*E11,2) -> 0 | G11: state
F12: =ROUND(+B12*D12*E12,2) -> 0 | G12: state
F13: =ROUND(+B13*D13*E13,2) -> 0 | G13: state
F14: =ROUND(+B14*D14*E14,2) -> 0 | G14: state
F15: =ROUND(+B15*D15*E15,2) -> 0 | G15: state
F16: =ROUND(+B16*D16*E16,2) -> 0 | G16: state
F17: =ROUND(+B17*D17*E17,2) -> 0 | G17: state
F18: =ROUND(+B18*D18*E18,2) -> 0 | G18: state
F19: =ROUND(+B19*D19*E19,2) -> 0 | G19: state
... F133: =ROUND(+B133*D133*E133,2) -> 0 | G133: state
A134: Description | B134: 3 | C134: month | D134: =RAND()*1000000 -> 589508.9 | E134: 7 | F134: =ROUND(+B134*D134*E134,2) -> 12379687 | G134: state
E135: State Total | F135: =ROUND(SUBTOTAL(109,F5:F134),2) -> 35194439 | G135: state | I135: If you need additional rows, there are rows you can unhide
G136: non-state
A137: Description | B137: 3 | C137: month | D137: =RAND()*1000000 -> 317154.36 | E137: 7 | F137: =ROUND(+B137*D137*E137,2) -> 6660241.5 | G137: non-state
A138: Description | B138: 3 | C138: month | D138: =RAND()*1000000 -> 728948.83 | E138: 7 | F138: =ROUND(+B138*D138*E138,2) -> 15307925 | G138: non-state
A139: Description | B139: 3 | C139: month | D139: =RAND()*1000000 -> 847570.95 | E139: 7 | F139: =ROUND(+B139*D139*E139,2) -> 17798990 | G139: non-state
F140: =ROUND(+B140*D140*E140,2) -> 0 | G140: non-state
F141: =ROUND(+B141*D141*E141,2) -> 0 | G141: non-state
F142: =ROUND(+B142*D142*E142,2) -> 0 | G142: non-state
F143: =ROUND(+B143*D143*E143,2) -> 0 | G143: non-state
F144: =ROUND(+B144*D144*E144,2) -> 0 | G144: non-state
F145: =ROUND(+B145*D145*E145,2) -> 0 | G145: non-state
F146: =ROUND(+B146*D146*E146,2) -> 0 | G146: non-state
F147: =ROUND(+B147*D147*E147,2) -> 0 | G147: non-state
F148: =ROUND(+B148*D148*E148,2) -> 0 | G148: non-state
F149: =ROUND(+B149*D149*E149,2) -> 0 | G149: non-state
F150: =ROUND(+B150*D150*E150,2) -> 0 | G150: non-state
F151: =ROUND(+B151*D151*E151,2) -> 0 | G151: non-state
... F265: =ROUND(+B265*D265*E265,2) -> 0 | G265: non-state
A266: Description | B266: 3 | C266: month | D266: =RAND()*1000000 -> 880376.16 | E266: 7 | F266: =ROUND(+B266*D266*E266,2) -> 18487899 | G266: non-state
...

Sheet 12C
A1: Section C - Budget Worksheet & Narrative | F1: =+'Section A'!B2 -> Cornucopia-Galesburg Inc | G1: Filter
A2: 12C. | B2: GRANT EXCLUSIVE LINE ITEM
A3: Line item determine to be by programmatic of federal reporting purposes. DCEO will be required to provide definition and instruction per each Grant Exclusive Line Item developed. | G3: keep
A4: Description | B4: Quantity | C4: Basis | D4: Cost | E4: Length of time | F4: Total Cost | G4: keep | I4: Length of time=# of units of Basis
A5: Description | B5: 3 | C5: month | D5: =RAND()*1000000 -> 828111.16 | E5: 7 | F5: =ROUND(+B5*D5*E5,2) -> 17390334 | G5: state
A6: Description | B6: 3 | C6: month | D6: =RAND()*1000000 -> 779007.48 | E6: 7 | F6: =ROUND(+B6*D6*E6,2) -> 16359157 | G6: state
A7: Description | B7: 3 | C7: month | D7: =RAND()*1000000 -> 851678.34 | E7: 7 | F7: =ROUND(+B7*D7*E7,2) -> 17885245 | G7: state
F8: =ROUND(+B8*D8*E8,2) -> 0 | G8: state
F9: =ROUND(+B9*D9*E9,2) -> 0 | G9: state
F10: =ROUND(+B10*D10*E10,2) -> 0 | G10: state
F11: =ROUND(+B11*D11*E11,2) -> 0 | G11: state
F12: =ROUND(+B12*D12*E12,2) -> 0 | G12: state
F13: =ROUND(+B13*D13*E13,2) -> 0 | G13: state
F14: =ROUND(+B14*D14*E14,2) -> 0 | G14: state
F15: =ROUND(+B15*D15*E15,2) -> 0 | G15: state
F16: =ROUND(+B16*D16*E16,2) -> 0 | G16: state
F17: =ROUND(+B17*D17*E17,2) -> 0 | G17: state
F18: =ROUND(+B18*D18*E18,2) -> 0 | G18: state
F19: =ROUND(+B19*D19*E19,2) -> 0 | G19: state
... F133: =ROUND(+B133*D133*E133,2) -> 0 | G133: state
A134: Description | B134: 3 | C134: month | D134: =RAND()*1000000 -> 263687.38 | E134: 7 | F134: =ROUND(+B134*D134*E134,2) -> 5537435 | G134: state
E135: State Total | F135: =ROUND(SUBTOTAL(109,F5:F134),2) -> 57172172 | G135: state | I135: If you need additional rows, there are rows you can unhide
G136: non-state
A137: Description | B137: 3 | C137: month | D137: =RAND()*1000000 -> 565554.03 | E137: 7 | F137: =ROUND(+B137*D137*E137,2) -> 11876635 | G137: non-state
A138: Description | B138: 3 | C138: month | D138: =RAND()*1000000 -> 255144.08 | E138: 7 | F138: =ROUND(+B138*D138*E138,2) -> 5358025.7 | G138: non-state
A139: Description | B139: 3 | C139: month | D139: =RAND()*1000000 -> 931541.03 | E139: 7 | F139: =ROUND(+B139*D139*E139,2) -> 19562362 | G139: non-state
F140: =ROUND(+B140*D140*E140,2) -> 0 | G140: non-state
F141: =ROUND(+B141*D141*E141,2) -> 0 | G141: non-state
F142: =ROUND(+B142*D142*E142,2) -> 0 | G142: non-state
F143: =ROUND(+B143*D143*E143,2) -> 0 | G143: non-state
F144: =ROUND(+B144*D144*E144,2) -> 0 | G144: non-state
F145: =ROUND(+B145*D145*E145,2) -> 0 | G145: non-state
F146: =ROUND(+B146*D146*E146,2) -> 0 | G146: non-state
F147: =ROUND(+B147*D147*E147,2) -> 0 | G147: non-state
F148: =ROUND(+B148*D148*E148,2) -> 0 | G148: non-state
F149: =ROUND(+B149*D149*E149,2) -> 0 | G149: non-state
F150: =ROUND(+B150*D150*E150,2) -> 0 | G150: non-state
F151: =ROUND(+B151*D151*E151,2) -> 0 | G151: non-state
... F265: =ROUND(+B265*D265*E265,2) -> 0 | G265: non-state
A266: Description | B266: 3 | C266: month | D266: =RAND()*1000000 -> 188941.3 | E266: 7 | F266: =ROUND(+B266*D266*E266,2) -> 3967767.2 | G266: non-state
...

Sheet 12D
A1: Section C - Budget Worksheet & Narrative | F1: =+'Section A'!B2 -> Cornucopia-Galesburg Inc | G1: Filter
A2: 12D. | B2: GRANT EXCLUSIVE LINE ITEM
A3: Line item determine to be by programmatic of federal reporting purposes. DCEO will be required to provide definition and instruction per each Grant Exclusive Line Item developed. | G3: keep
A4: Description | B4: Quantity | C4: Basis | D4: Cost | E4: Length of time | F4: Total Cost | G4: keep | I4: Length of time=# of units of Basis
A5: Description | B5: 3 | C5: month | D5: =RAND()*1000000 -> 965930.74 | E5: 7 | F5: =ROUND(+B5*D5*E5,2) -> 20284546 | G5: state
A6: Description | B6: 3 | C6: month | D6: =RAND()*1000000 -> 775072.4 | E6: 7 | F6: =ROUND(+B6*D6*E6,2) -> 16276520 | G6: state
A7: Description | B7: 3 | C7: month | D7: =RAND()*1000000 -> 632821.77 | E7: 7 | F7: =ROUND(+B7*D7*E7,2) -> 13289257 | G7: state
F8: =ROUND(+B8*D8*E8,2) -> 0 | G8: state
F9: =ROUND(+B9*D9*E9,2) -> 0 | G9: state
F10: =ROUND(+B10*D10*E10,2) -> 0 | G10: state
F11: =ROUND(+B11*D11*E11,2) -> 0 | G11: state
F12: =ROUND(+B12*D12*E12,2) -> 0 | G12: state
F13: =ROUND(+B13*D13*E13,2) -> 0 | G13: state
F14: =ROUND(+B14*D14*E14,2) -> 0 | G14: state
F15: =ROUND(+B15*D15*E15,2) -> 0 | G15: state
F16: =ROUND(+B16*D16*E16,2) -> 0 | G16: state
F17: =ROUND(+B17*D17*E17,2) -> 0 | G17: state
F18: =ROUND(+B18*D18*E18,2) -> 0 | G18: state
F19: =ROUND(+B19*D19*E19,2) -> 0 | G19: state
... F133: =ROUND(+B133*D133*E133,2) -> 0 | G133: state
A134: Description | B134: 3 | C134: month | D134: =RAND()*1000000 -> 946982.95 | E134: 7 | F134: =ROUND(+B134*D134*E134,2) -> 19886642 | G134: state
E135: State Total | F135: =ROUND(SUBTOTAL(109,F5:F134),2) -> 69736965 | G135: state | I135: If you need additional rows, there are rows you can unhide
G136: non-state
A137: Description | B137: 3 | C137: month | D137: =RAND()*1000000 -> 667116.7 | E137: 7 | F137: =ROUND(+B137*D137*E137,2) -> 14009451 | G137: non-state
A138: Description | B138: 3 | C138: month | D138: =RAND()*1000000 -> 306057.89 | E138: 7 | F138: =ROUND(+B138*D138*E138,2) -> 6427215.6 | G138: non-state
A139: Description | B139: 3 | C139: month | D139: =RAND()*1000000 -> 115574.53 | E139: 7 | F139: =ROUND(+B139*D139*E139,2) -> 2427065 | G139: non-state
F140: =ROUND(+B140*D140*E140,2) -> 0 | G140: non-state
F141: =ROUND(+B141*D141*E141,2) -> 0 | G141: non-state
F142: =ROUND(+B142*D142*E142,2) -> 0 | G142: non-state
F143: =ROUND(+B143*D143*E143,2) -> 0 | G143: non-state
F144: =ROUND(+B144*D144*E144,2) -> 0 | G144: non-state
F145: =ROUND(+B145*D145*E145,2) -> 0 | G145: non-state
F146: =ROUND(+B146*D146*E146,2) -> 0 | G146: non-state
F147: =ROUND(+B147*D147*E147,2) -> 0 | G147: non-state
F148: =ROUND(+B148*D148*E148,2) -> 0 | G148: non-state
F149: =ROUND(+B149*D149*E149,2) -> 0 | G149: non-state
F150: =ROUND(+B150*D150*E150,2) -> 0 | G150: non-state
F151: =ROUND(+B151*D151*E151,2) -> 0 | G151: non-state
... F265: =ROUND(+B265*D265*E265,2) -> 0 | G265: non-state
A266: Description | B266: 3 | C266: month | D266: =RAND()*1000000 -> 850565.23 | E266: 7 | F266: =ROUND(+B266*D266*E266,2) -> 17861870 | G266: non-state
...

Sheet 12E
A1: Section C - Budget Worksheet & Narrative | F1: =+'Section A'!B2 -> Cornucopia-Galesburg Inc | G1: Filter
A2: 12E. | B2: GRANT EXCLUSIVE LINE ITEM
A3: Line item determine to be by programmatic of federal reporting purposes. DCEO will be required to provide definition and instruction per each Grant Exclusive Line Item developed. | G3: keep
A4: Description | B4: Quantity | C4: Basis | D4: Cost | E4: Length of time | F4: Total Cost | G4: keep | I4: Length of time=# of units of Basis
A5: Description | B5: 3 | C5: month | D5: =RAND()*1000000 -> 510473.84 | E5: 7 | F5: =ROUND(+B5*D5*E5,2) -> 10719951 | G5: state
A6: Description | B6: 3 | C6: month | D6: =RAND()*1000000 -> 87879.447 | E6: 7 | F6: =ROUND(+B6*D6*E6,2) -> 1845468.4 | G6: state
A7: Description | B7: 3 | C7: month | D7: =RAND()*1000000 -> 937004.28 | E7: 7 | F7: =ROUND(+B7*D7*E7,2) -> 19677090 | G7: state
F8: =ROUND(+B8*D8*E8,2) -> 0 | G8: state
F9: =ROUND(+B9*D9*E9,2) -> 0 | G9: state
F10: =ROUND(+B10*D10*E10,2) -> 0 | G10: state
F11: =ROUND(+B11*D11*E11,2) -> 0 | G11: state
F12: =ROUND(+B12*D12*E12,2) -> 0 | G12: state
F13: =ROUND(+B13*D13*E13,2) -> 0 | G13: state
F14: =ROUND(+B14*D14*E14,2) -> 0 | G14: state
F15: =ROUND(+B15*D15*E15,2) -> 0 | G15: state
F16: =ROUND(+B16*D16*E16,2) -> 0 | G16: state
F17: =ROUND(+B17*D17*E17,2) -> 0 | G17: state
F18: =ROUND(+B18*D18*E18,2) -> 0 | G18: state
F19: =ROUND(+B19*D19*E19,2) -> 0 | G19: state
... F133: =ROUND(+B133*D133*E133,2) -> 0 | G133: state
A134: Description | B134: 3 | C134: month | D134: =RAND()*1000000 -> 736613.37 | E134: 7 | F134: =ROUND(+B134*D134*E134,2) -> 15468881 | G134: state
E135: State Total | F135: =ROUND(SUBTOTAL(109,F5:F134),2) -> 47711390 | G135: state | I135: If you need additional rows, there are rows you can unhide
G136: non-state
A137: Description | B137: 3 | C137: month | D137: =RAND()*1000000 -> 498288.45 | E137: 7 | F137: =ROUND(+B137*D137*E137,2) -> 10464058 | G137: non-state
A138: Description | B138: 3 | C138: month | D138: =RAND()*1000000 -> 715924.06 | E138: 7 | F138: =ROUND(+B138*D138*E138,2) -> 15034405 | G138: non-state
A139: Description | B139: 3 | C139: month | D139: =RAND()*1000000 -> 139620.01 | E139: 7 | F139: =ROUND(+B139*D139*E139,2) -> 2932020.2 | G139: non-state
F140: =ROUND(+B140*D140*E140,2) -> 0 | G140: non-state
F141: =ROUND(+B141*D141*E141,2) -> 0 | G141: non-state
F142: =ROUND(+B142*D142*E142,2) -> 0 | G142: non-state
F143: =ROUND(+B143*D143*E143,2) -> 0 | G143: non-state
F144: =ROUND(+B144*D144*E144,2) -> 0 | G144: non-state
F145: =ROUND(+B145*D145*E145,2) -> 0 | G145: non-state
F146: =ROUND(+B146*D146*E146,2) -> 0 | G146: non-state
F147: =ROUND(+B147*D147*E147,2) -> 0 | G147: non-state
F148: =ROUND(+B148*D148*E148,2) -> 0 | G148: non-state
F149: =ROUND(+B149*D149*E149,2) -> 0 | G149: non-state
F150: =ROUND(+B150*D150*E150,2) -> 0 | G150: non-state
F151: =ROUND(+B151*D151*E151,2) -> 0 | G151: non-state
... F265: =ROUND(+B265*D265*E265,2) -> 0 | G265: non-state
A266: Description | B266: 3 | C266: month | D266: =RAND()*1000000 -> 402374.34 | E266: 7 | F266: =ROUND(+B266*D266*E266,2) -> 8449861.1 | G266: non-state
...

Sheet 12F
A1: Section C - Budget Worksheet & Narrative | F1: =+'Section A'!B2 -> Cornucopia-Galesburg Inc | G1: Filter
A2: 12F. | B2: GRANT EXCLUSIVE LINE ITEM
A3: Line item determine to be by programmatic of federal reporting purposes. DCEO will be required to provide definition and instruction per each Grant Exclusive Line Item developed. | G3: keep
A4: Description | B4: Quantity | C4: Basis | D4: Cost | E4: Length of time | F4: Total Cost | G4: keep | I4: Length of time=# of units of Basis
A5: Description | B5: 3 | C5: month | D5: =RAND()*1000000 -> 979465.44 | E5: 7 | F5: =ROUND(+B5*D5*E5,2) -> 20568774 | G5: state
A6: Description | B6: 3 | C6: month | D6: =RAND()*1000000 -> 835204.42 | E6: 7 | F6: =ROUND(+B6*D6*E6,2) -> 17539293 | G6: state
A7: Description | B7: 3 | C7: month | D7: =RAND()*1000000 -> 912909.68 | E7: 7 | F7: =ROUND(+B7*D7*E7,2) -> 19171103 | G7: state
F8: =ROUND(+B8*D8*E8,2) -> 0 | G8: state
F9: =ROUND(+B9*D9*E9,2) -> 0 | G9: state
F10: =ROUND(+B10*D10*E10,2) -> 0 | G10: state
F11: =ROUND(+B11*D11*E11,2) -> 0 | G11: state
F12: =ROUND(+B12*D12*E12,2) -> 0 | G12: state
F13: =ROUND(+B13*D13*E13,2) -> 0 | G13: state
F14: =ROUND(+B14*D14*E14,2) -> 0 | G14: state
F15: =ROUND(+B15*D15*E15,2) -> 0 | G15: state
F16: =ROUND(+B16*D16*E16,2) -> 0 | G16: state
F17: =ROUND(+B17*D17*E17,2) -> 0 | G17: state
F18: =ROUND(+B18*D18*E18,2) -> 0 | G18: state
F19: =ROUND(+B19*D19*E19,2) -> 0 | G19: state
... F133: =ROUND(+B133*D133*E133,2) -> 0 | G133: state
A134: Description | B134: 3 | C134: month | D134: =RAND()*1000000 -> 243177.45 | E134: 7 | F134: =ROUND(+B134*D134*E134,2) -> 5106726.5 | G134: state
E135: State Total | F135: =ROUND(SUBTOTAL(109,F5:F134),2) -> 62385897 | G135: state | I135: If you need additional rows, there are rows you can unhide
G136: non-state
A137: Description | B137: 3 | C137: month | D137: =RAND()*1000000 -> 345056.18 | E137: 7 | F137: =ROUND(+B137*D137*E137,2) -> 7246179.8 | G137: non-state
A138: Description | B138: 3 | C138: month | D138: =RAND()*1000000 -> 483128.48 | E138: 7 | F138: =ROUND(+B138*D138*E138,2) -> 10145698 | G138: non-state
A139: Description | B139: 3 | C139: month | D139: =RAND()*1000000 -> 858687.51 | E139: 7 | F139: =ROUND(+B139*D139*E139,2) -> 18032438 | G139: non-state
F140: =ROUND(+B140*D140*E140,2) -> 0 | G140: non-state
F141: =ROUND(+B141*D141*E141,2) -> 0 | G141: non-state
F142: =ROUND(+B142*D142*E142,2) -> 0 | G142: non-state
F143: =ROUND(+B143*D143*E143,2) -> 0 | G143: non-state
F144: =ROUND(+B144*D144*E144,2) -> 0 | G144: non-state
F145: =ROUND(+B145*D145*E145,2) -> 0 | G145: non-state
F146: =ROUND(+B146*D146*E146,2) -> 0 | G146: non-state
F147: =ROUND(+B147*D147*E147,2) -> 0 | G147: non-state
F148: =ROUND(+B148*D148*E148,2) -> 0 | G148: non-state
F149: =ROUND(+B149*D149*E149,2) -> 0 | G149: non-state
F150: =ROUND(+B150*D150*E150,2) -> 0 | G150: non-state
F151: =ROUND(+B151*D151*E151,2) -> 0 | G151: non-state
... F265: =ROUND(+B265*D265*E265,2) -> 0 | G265: non-state
A266: Description | B266: 3 | C266: month | D266: =RAND()*1000000 -> 786165.21 | E266: 7 | F266: =ROUND(+B266*D266*E266,2) -> 16509469 | G266: non-state
...

Sheet 12G
A1: Section C - Budget Worksheet & Narrative | F1: =+'Section A'!B2 -> Cornucopia-Galesburg Inc | G1: Filter
A2: 12G. | B2: GRANT EXCLUSIVE LINE ITEM
A3: Line item determine to be by programmatic of federal reporting purposes. DCEO will be required to provide definition and instruction per each Grant Exclusive Line Item developed. | G3: keep
A4: Description | B4: Quantity | C4: Basis | D4: Cost | E4: Length of time | F4: Total Cost | G4: keep | I4: Length of time=# of units of Basis
A5: Description | B5: 3 | C5: month | D5: =RAND()*1000000 -> 718693.15 | E5: 7 | F5: =ROUND(+B5*D5*E5,2) -> 15092556 | G5: state
A6: Description | B6: 3 | C6: month | D6: =RAND()*1000000 -> 19402.08 | E6: 7 | F6: =ROUND(+B6*D6*E6,2) -> 407443.67 | G6: state
A7: Description | B7: 3 | C7: month | D7: =RAND()*1000000 -> 790510.31 | E7: 7 | F7: =ROUND(+B7*D7*E7,2) -> 16600716 | G7: state
F8: =ROUND(+B8*D8*E8,2) -> 0 | G8: state
F9: =ROUND(+B9*D9*E9,2) -> 0 | G9: state
F10: =ROUND(+B10*D10*E10,2) -> 0 | G10: state
